Workbook

Sheet Курская область
A1: Приложение 1
A2: РАСЧЕТНЫЕ ВЕЛИЧИНЫ образования, обработки, утилизации, обезвреживания, размещения твердых коммунальных отходов, в том числе по зонам деятельности региональных операторов по обращению с твердыми коммунальными отходами Курской области
A4: Наименование регионального оператора по обращению с твердыми коммунальными отходами | B4: ООО "Экопол", АО "Спецавтобаза по уборке г. Курска"
A5: Наименование зоны деятельности регионального оператора | B5: Курская область (Юго-западная зона, Северо-восточная зона)
A6: Год, за который представляется информация | B6: 2026 | C6: 2027 | D6: 2028 | E6: 2029 | F6: 2030 | G6: 2031 | H6: 2032 | I6: 2033 | J6: 2034 | K6: 2035 | L6: 2036
A7: Масса твердых коммунальных отходов и отходов после обработки твердых коммунальных отходов, накопленных на начало года, в том числе в разбивке по объектам обработки, обезвреживания, утилизации, размещения, перегрузки твердых коммунальных отходов, на которых происходит накопление твердых коммунальных отходов, тыс. тонн | B7: 0 | C7: 0 | D7: 0 | E7: 0 | F7: 0 | G7: 0 | H7: 0 | I7: 0 | J7: 0 | K7: 0 | L7: 0
A8: Масса твердых коммунальных отходов, поступивших из других субъектов Российской Федерации, в том числе в разбивке по субъектам Российской Федерации, и из других зон деятельности региональных операторов, в том числе в разбивке по зонам деятельности региональных операторов, тыс. тонн | B8: 0 | C8: 0 | D8: 0 | E8: 0 | F8: 0 | G8: 187.10242 | H8: 187.10242 | I8: 187.10242 | J8: 187.10242 | K8: 187.10242 | L8: 187.10242
A9: Юго-западная зона | B9: 0 | C9: 0 | D9: 0 | E9: 0 | F9: 0 | G9: 187.10242 | H9: 187.10242 | I9: 187.10242 | J9: 187.10242 | K9: 187.10242 | L9: 187.10242
A10: Северо-восточная зона | B10: 0 | C10: 0 | D10: 0 | E10: 0 | F10: 0 | G10: 0 | H10: 0 | I10: 0 | J10: 0 | K10: 0 | L10: 0
A11: Масса образованных твердых коммунальных отходов, в том числе в разбивке по зонам деятельности региональных операторов, тыс. тонн | B11: =SUM(B12:B13) -> 284.38649 | C11: =SUM(C12:C13) -> 284.38649 | D11: =SUM(D12:D13) -> 284.38649 | E11: =SUM(E12:E13) -> 284.38649 | F11: =SUM(F12:F13) -> 284.38649 | G11: =SUM(G12:G13) -> 308.44998 | H11: =SUM(H12:H13) -> 308.44998 | I11: =SUM(I12:I13) -> 308.44998 | ... L11: =SUM(L12:L13) -> 308.44998
A12: Юго-западная зона | B12: ='Юго-западная зона'!B8 -> 97.28407 | C12: ='Юго-западная зона'!C8 -> 97.28407 | D12: ='Юго-западная зона'!D8 -> 97.28407 | E12: ='Юго-западная зона'!E8 -> 97.28407 | F12: ='Юго-западная зона'!F8 -> 97.28407 | G12: ='Юго-западная зона'!G8 -> 121.34756 | H12: ='Юго-западная зона'!H8 -> 121.34756 | I12: ='Юго-западная зона'!I8 -> 121.34756 | ... L12: ='Юго-западная зона'!L8 -> 121.34756
A13: Северо-восточная зона | B13: ='Северо-восточная зона'!B8 -> 187.10242 | C13: ='Северо-восточная зона'!C8 -> 187.10242 | D13: ='Северо-восточная зона'!D8 -> 187.10242 | E13: ='Северо-восточная зона'!E8 -> 187.10242 | F13: ='Северо-восточная зона'!F8 -> 187.10242 | G13: ='Северо-восточная зона'!G8 -> 187.10242 | H13: ='Северо-восточная зона'!H8 -> 187.10242 | I13: ='Северо-восточная зона'!I8 -> 187.10242 | ... L13: ='Северо-восточная зона'!L8 -> 187.10242
A14: Масса твердых коммунальных отходов, направленных на обработку в течение года, тыс. тонн | B14: ='Юго-западная зона'!B202+'Северо-восточная зона'!B136 -> 97.28407 | C14: ='Юго-западная зона'!C202+'Северо-восточная зона'!C136 -> 97.28407 | D14: ='Юго-западная зона'!D202+'Северо-восточная зона'!D136 -> 97.28407 | E14: ='Юго-западная зона'!E202+'Северо-восточная зона'!E136 -> 97.28407 | F14: ='Юго-западная зона'!F202+'Северо-восточная зона'!F136 -> 97.28407 | G14: ='Юго-западная зона'!G202+'Северо-восточная зона'!G136 -> 308.44998 | H14: ='Юго-западная зона'!H202+'Северо-восточная зона'!H136 -> 308.44998 | I14: ='Юго-западная зона'!I202+'Северо-восточная зона'!I136 -> 308.44998 | ... L14: ='Юго-западная зона'!L202+'Северо-восточная зона'!L136 -> 308.44998
A15: ООО МСК "СРВ" | B15: 36.70543 | C15: 36.70543 | D15: 36.70543 | E15: 36.70543 | F15: 36.70543 | G15: 0 | H15: 0 | I15: 0 | J15: 0 | K15: 0 | L15: 0
A16: ООО МСК "Экопол" | B16: 60.57864 | C16: 60.57864 | D16: 60.57864 | E16: 60.57864 | F16: 60.57864 | G16: 0 | H16: 0 | I16: 0 | J16: 0 | K16: 0 | L16: 0
A17: Единый комплексный объект (объект обработки) | B17: 0 | C17: 0 | D17: 0 | E17: 0 | F17: 0 | G17: 308.44998 | H17: 308.44998 | I17: 308.44998 | J17: 308.44998 | K17: 308.44998 | L17: 308.44998
A18: Масса твердых коммунальных отходов и отходов производства и потребления после обработки твердых коммунальных отходов, направленных на утилизацию, в том числе масса твердых коммунальных отходов и отходов производства и потребления после обработки твердых коммунальных отходов, направленных на энергетическую утилизацию в течение года, тыс. тонн | B18: 0 | C18: 0 | D18: 0 | E18: 0 | F18: 0 | G18: 154.225 | H18: 154.225 | I18: 154.225 | J18: 154.225 | K18: 154.225 | L18: 154.225
A19: Единый комплексный объект (объект утилизации) | B19: 0 | C19: 0 | D19: 0 | E19: 0 | F19: 0 | G19: 154.225 | H19: 154.225 | I19: 154.225 | J19: 154.225 | K19: 154.225 | L19: 154.225
A20: Масса естественных потерь компонентного состава в твердых коммунальных отходах, связанная с уменьшением массы твердых коммунальных отходов на объекте обработки, обезвреживания, утилизации твердых коммунальных отходов (за исключением энергетической утилизации твердых коммунальных отходов) в связи с уменьшением влаги и другими факторами (при наличии информации), тыс. тонн | B20: 0 | C20: 0 | D20: 0 | E20: 0 | F20: 0 | G20: 0 | H20: 0 | I20: 0 | J20: 0 | K20: 0 | L20: 0
A21: Масса твердых коммунальных отходов и отходов производства и потребления после обработки твердых коммунальных отходов, направленных на обезвреживание в течение года, тыс. тонн | B21: 0 | C21: 0 | D21: 0 | E21: 0 | F21: 0 | G21: 0 | H21: 0 | I21: 0 | J21: 0 | K21: 0 | L21: 0
A22: Масса твердых коммунальных отходов и отходов производства и потребления после обработки твердых коммунальных отходов, направленных на размещение в течение года, тыс. тонн | B22: =SUM(B23:B25) -> 275.63092 | C22: =SUM(C23:C25) -> 275.63092 | D22: =SUM(D23:D25) -> 275.63092 | E22: =SUM(E23:E25) -> 275.63092 | F22: =SUM(F23:F25) -> 275.63092 | G22: 154.225 | H22: 154.225 | I22: 154.225 | J22: 154.225 | K22: 154.225 | L22: 154.225
A23: Полигон ООО "Экопол" | B23: ='Юго-западная зона'!B210 -> 88.5285 | C23: ='Юго-западная зона'!C210 -> 88.5285 | D23: ='Юго-западная зона'!D210 -> 88.5285 | E23: ='Юго-западная зона'!E210 -> 88.5285 | F23: ='Юго-западная зона'!F210 -> 88.5285 | G23: 0 | H23: 0 | I23: 0 | J23: 0 | K23: 0 | L23: 0
A24: Полигон АО "Спецавтобаза по уборке г. Курска" | B24: 187.10242 | C24: 187.10242 | D24: 187.10242 | E24: 187.10242 | F24: 187.10242 | G24: 0 | H24: 0 | I24: 0 | J24: 0 | K24: 0 | L24: 0
A25: Единый комплексный объект (объект захоронения), в т.ч.: | B25: 0 | C25: 0 | D25: 0 | E25: 0 | F25: 0 | G25: 154.225 | H25: 154.225 | I25: 154.225 | J25: 154.225 | K25: 154.225 | L25: 154.225
A26: Изменение массы твердых коммунальных отходов и отходов производства и потребления после обработки твердых коммунальных отходов, направленных на накопление за год, тыс. тонн | B26: 0 | C26: 0 | D26: 0 | E26: 0 | F26: 0 | G26: 0 | H26: 0 | I26: 0 | J26: 0 | K26: 0 | L26: 0
A27: Масса твердых коммунальных отходов, направленных в другие субъекты Российской Федерации в течение года, тыс. тонн | B27: 0 | C27: 0 | D27: 0 | E27: 0 | F27: 0 | G27: 0 | H27: 0 | I27: 0 | J27: 0 | K27: 0 | L27: 0
A28: Расчетный коэффициент плотности твердых коммунальных отходов, тонн на куб. метр | B28: 0.132 | C28: 0.132 | D28: 0.132 | E28: 0.132 | F28: 0.132 | G28: 0.132 | H28: 0.132 | I28: 0.132 | J28: 0.132 | K28: 0.132 | L28: 0.132
A31: Доля ТКО, направленных на обработку (сортировку), в общей массе образованных ТКО, % | B31: =B14/B11*100 -> 34.208401 | C31: =C14/C11*100 -> 34.208401 | D31: =D14/D11*100 -> 34.208401 | E31: =E14/E11*100 -> 34.208401 | F31: =F14/F11*100 -> 34.208401 | G31: =G14/G11*100 -> 100 | H31: =H14/H11*100 -> 100 | I31: =I14/I11*100 -> 100 | ... L31: =L14/L11*100 -> 100
A32: Доля направленных на захоронение ТКО, в том числе прошедших обработку (сортировку), в общей массе образованных ТКО, % | B32: =B22/B11*100 -> 96.921243 | C32: =C22/C11*100 -> 96.921243 | D32: =D22/D11*100 -> 96.921243 | E32: =E22/E11*100 -> 96.921243 | F32: =F22/F11*100 -> 96.921243 | G32: =G22/G11*100 -> 50.000003 | H32: =H22/H11*100 -> 50.000003 | I32: =I22/I11*100 -> 50.000003 | ... L32: =L22/L11*100 -> 50.000003
A33: Показатель эффективности извлечения вторичных ресурсов из твердых коммунальных отходов в результате их обработки, направляемых на утилизацию | B33: 0.09 | C33: =100%-C23/C14 -> 0.090000038 | D33: =100%-D23/D14 -> 0.090000038 | E33: =100%-E23/E14 -> 0.090000038 | F33: =100%-F23/F14 -> 0.090000038 | G33: 15 | H33: 15 | I33: 15 | J33: 15 | K33: 15 | L33: 15
A34: Показатель эффективности извлечения органической части твердых коммунальных отходов, направляемой на утилизацию путем производства искусственных грунтов | B34: 0 | C34: 0 | D34: 0 | E34: 0 | F34: 0 | G34: 35 | H34: 35 | I34: 35 | J34: 35 | K34: 35 | L34: 35
A35: Показатель обезвреживания твердых коммунальных отходов % | B35: 0 | C35: 0 | D35: 0 | E35: 0 | F35: 0 | G35: 0 | H35: 0 | I35: 0 | J35: 0 | K35: 0 | L35: 0

Sheet Юго-западная зона
A1: РАСЧЕТНЫЕ ВЕЛИЧИНЫ образования, обработки, утилизации, обезвреживания, размещения твердых коммунальных отходов, в том числе по зонам деятельности региональных операторов по обращению с твердыми коммунальными отходами Курской области
A3: Наименование регионального оператора по обращению с твердыми коммунальными отходами | B3: ООО "Экопол"
A4: Наименование зоны деятельности регионального оператора | B4: Юго-западная зона
A5: Год, за который представляется информация | B5: 2026 | C5: 2027 | D5: 2028 | E5: 2029 | F5: 2030 | G5: 2031 | H5: 2032 | I5: 2033 | J5: 2034 | K5: 2035 | L5: 2036
A6: Масса твердых коммунальных отходов и отходов производства и потребления после обработки твердых коммунальных отходов, накопленных на начало года, тыс. тонн | B6: 0 | C6: 0 | D6: 0 | E6: 0 | F6: 0 | G6: 0 | H6: 0 | I6: 0 | J6: 0 | K6: 0 | L6: 0
A7: Масса твердых коммунальных отходов, принятых из других субъектов Российской Федерации в течение года, зон деятельности региональных операторов, тыс. тонн | B7: 0 | C7: 0 | D7: 0 | E7: 0 | F7: 0 | G7: 187.102 | H7: 187.102 | I7: 187.102 | J7: 187.102 | K7: 187.102 | L7: 187.102
A8: Масса образованных в течение года твердых коммунальных отходов, тыс. тонн | B8: =SUM(B9:B201) -> 97.28407 | C8: =SUM(C9:C201) -> 97.28407 | D8: =SUM(D9:D201) -> 97.28407 | E8: =SUM(E9:E201) -> 97.28407 | F8: =SUM(F9:F201) -> 97.28407 | G8: =SUM(G9:G201) -> 121.34756 | H8: =SUM(H9:H201) -> 121.34756 | I8: =SUM(I9:I201) -> 121.34756 | ... L8: =SUM(L9:L201) -> 121.34756
A9: Сельское поселение Беличанский сельсовет | B9: 0 | C9: 0 | D9: 0 | E9: 0 | F9: 0 | G9: 0.26295 | H9: 0.26295 | I9: 0.26295 | J9: 0.26295 | K9: 0.26295 | L9: 0.26295
A10: Сельское поселение Беловский сельсовет | B10: 0 | C10: 0 | D10: 0 | E10: 0 | F10: 0 | G10: 0.74297 | H10: 0.74297 | I10: 0.74297 | J10: 0.74297 | K10: 0.74297 | L10: 0.74297
A11: Сельское поселение Бобравский сельсовет | B11: 0.18088 | C11: 0.18088 | D11: 0.18088 | E11: 0.18088 | F11: 0.18088 | G11: 0.18088 | H11: 0.18088 | I11: 0.18088 | J11: 0.18088 | K11: 0.18088 | L11: 0.18088
A12: Сельское поселение Вишневский сельсовет Беловского района | B12: 0 | C12: 0 | D12: 0 | E12: 0 | F12: 0 | G12: 0.17467 | H12: 0.17467 | I12: 0.17467 | J12: 0.17467 | K12: 0.17467 | L12: 0.17467
A13: Сельское поселение Гирьянский сельсовет | B13: 0 | C13: 0 | D13: 0 | E13: 0 | F13: 0 | G13: 0.4576 | H13: 0.4576 | I13: 0.4576 | J13: 0.4576 | K13: 0.4576 | L13: 0.4576
A14: Сельское поселение Долгобудский сельсовет | B14: 0.22731 | C14: 0.22731 | D14: 0.22731 | E14: 0.22731 | F14: 0.22731 | G14: 0.22731 | H14: 0.22731 | I14: 0.22731 | J14: 0.22731 | K14: 0.22731 | L14: 0.22731
A15: Сельское поселение Ильковский сельсовет | B15: 0 | C15: 0 | D15: 0 | E15: 0 | F15: 0 | G15: 0.2346 | H15: 0.2346 | I15: 0.2346 | J15: 0.2346 | K15: 0.2346 | L15: 0.2346
A16: Сельское поселение Коммунаровский сельсовет | B16: 0 | C16: 0 | D16: 0 | E16: 0 | F16: 0 | G16: 0.32343 | H16: 0.32343 | I16: 0.32343 | J16: 0.32343 | K16: 0.32343 | L16: 0.32343
A17: Сельское поселение Кондратовский сельсовет | B17: 0 | C17: 0 | D17: 0 | E17: 0 | F17: 0 | G17: 0.23811 | H17: 0.23811 | I17: 0.23811 | J17: 0.23811 | K17: 0.23811 | L17: 0.23811
A18: Сельское поселение Корочанский сельсовет | B18: 0 | C18: 0 | D18: 0 | E18: 0 | F18: 0 | G18: 0.19303 | H18: 0.19303 | I18: 0.19303 | J18: 0.19303 | K18: 0.19303 | L18: 0.19303
A19: Сельское поселение Малосолдатский сельсовет | B19: 0 | C19: 0 | D19: 0 | E19: 0 | F19: 0 | G19: 0.17089 | H19: 0.17089 | I19: 0.17089 | J19: 0.17089 | K19: 0.17089 | L19: 0.17089
A20: Сельское поселение Пенский сельсовет | B20: 0.19546 | C20: 0.19546 | D20: 0.19546 | E20: 0.19546 | F20: 0.19546 | G20: 0.19546 | H20: 0.19546 | I20: 0.19546 | J20: 0.19546 | K20: 0.19546 | L20: 0.19546
... A201: Сельское поселение Сковородневский сельсовет | B201: 0.076 | C201: 0.076 | D201: 0.076 | E201: 0.076 | F201: 0.076 | G201: 0.076 | H201: 0.076 | I201: 0.076 | J201: 0.076 | K201: 0.076 | L201: 0.076
A202: Масса твердых коммунальных отходов, направленных на обработку в течение года, тыс. тонн | B202: =B8 -> 97.28407 | C202: =C8 -> 97.28407 | D202: =D8 -> 97.28407 | E202: =E8 -> 97.28407 | F202: =F8 -> 97.28407 | G202: 308.44998 | H202: 308.44998 | I202: 308.44998 | J202: 308.44998 | K202: 308.44998 | L202: 308.44998
A203: ООО МСК "СРВ" | B203: 36.70543 | C203: 36.70543 | D203: 36.70543 | E203: 36.70543 | F203: 36.70543 | G203: 0 | H203: 0 | I203: 0 | J203: 0 | K203: 0 | L203: 0
A204: ООО МСК "Экопол" | B204: 60.57864 | C204: 60.57864 | D204: 60.57864 | E204: 60.57864 | F204: 60.57864 | G204: 0 | H204: 0 | I204: 0 | J204: 0 | K204: 0 | L204: 0
A205: Единый комплексный объект (объект обработки) | B205: 0 | C205: 0 | D205: 0 | E205: 0 | F205: 0 | G205: 308.44998 | H205: 308.44998 | I205: 308.44998 | J205: 308.44998 | K205: 308.44998 | L205: 308.44998
A206: Масса твердых коммунальных отходов и отходов производства и потребления после обработки твердых коммунальных отходов, направленных на утилизацию, в том числе масса твердых коммунальных отходов и отходов производства и потребления после обработки твердых коммунальных отходов, направленных на энергетическую утилизацию в течение года, тыс. тонн | B206: 0 | C206: 0 | D206: 0 | E206: 0 | F206: 0 | G206: 154.225 | H206: 154.225 | I206: 154.225 | J206: 154.225 | K206: 154.225 | L206: 154.225
A207: Единый комплексный объект (объект утилизации) | B207: 0 | C207: 0 | D207: 0 | E207: 0 | F207: 0 | G207: 154.225 | H207: 154.225 | I207: 154.225 | J207: 154.225 | K207: 154.225 | L207: 154.225
A208: Масса естественных потерь компонентного состава в твердых коммунальных отходах, связанная с уменьшением массы твердых коммунальных отходов на объекте обработки, обезвреживания, утилизации твердых коммунальных отходов (за исключением энергетической утилизации твердых коммунальных отходов) в связи с уменьшением влаги и другими факторами (при наличии информации), тыс. тонн | B208: 0 | C208: 0 | D208: 0 | E208: 0 | F208: 0 | G208: 0 | H208: 0 | I208: 0 | J208: 0 | K208: 0 | L208: 0
A209: Масса твердых коммунальных отходов и отходов производства и потребления после обработки твердых коммунальных отходов, направленных на обезвреживание в течение года, тыс. тонн | B209: 0 | C209: 0 | D209: 0 | E209: 0 | F209: 0 | G209: 0 | H209: 0 | I209: 0 | J209: 0 | K209: 0 | L209: 0
A210: Масса твердых коммунальных отходов и отходов производства и потребления после обработки твердых коммунальных отходов, направленных на размещение в течение года, тыс. тонн | B210: 88.5285 | C210: 88.5285 | D210: 88.5285 | E210: 88.5285 | F210: 88.5285 | G210: 154.225 | H210: 154.225 | I210: 154.225 | J210: 154.225 | K210: 154.225 | L210: 154.225
A211: Полигон ООО "Экопол" | B211: 88.5285 | C211: 88.5285 | D211: 88.5285 | E211: 88.5285 | F211: 88.5285 | G211: 0 | H211: 0 | I211: 0 | J211: 0 | K211: 0 | L211: 0
A212: Единый комплексный объект (объект захоронения), в т.ч.: | B212: 0 | C212: 0 | D212: 0 | E212: 0 | F212: 0 | G212: 154.225 | H212: 154.225 | I212: 154.225 | J212: 154.225 | K212: 154.225 | L212: 154.225
A213: Изменение массы твердых коммунальных отходов и отходов производства и потребления после обработки твердых коммунальных отходов, направленных на накопление за год, тыс. тонн | B213: 0 | C213: 0 | D213: 0 | E213: 0 | F213: 0 | G213: 0 | H213: 0 | I213: 0 | J213: 0 | K213: 0 | L213: 0
A214: Масса твердых коммунальных отходов, направленных в другие субъекты Российской Федерации, зоны деятельности региональных операторов в течение года, тыс. тонн | B214: 0 | C214: 0 | D214: 0 | E214: 0 | F214: 0 | G214: 0 | H214: 0 | I214: 0 | J214: 0 | K214: 0 | L214: 0
A215: Расчетный коэффициент плотности твердых коммунальных отходов, тонн на куб. метр | B215: 0.132 | C215: 0.132 | D215: 0.132 | E215: 0.132 | F215: 0.132 | G215: 0.132 | H215: 0.132 | I215: 0.132 | J215: 0.132 | K215: 0.132 | L215: 0.132

Sheet Северо-восточная зона
A1: РАСЧЕТНЫЕ ВЕЛИЧИНЫ образования, обработки, утилизации, обезвреживания, размещения твердых коммунальных отходов, в том числе по зонам деятельности региональных операторов по обращению с твердыми коммунальными отходами Курской области
A3: Наименование регионального оператора по обращению с твердыми коммунальными отходами | B3: АО "Спецавтобаза по уборке г. Курска"
A4: Наименование зоны деятельности регионального оператора | B4: Северо-восточная зона
A5: Год, за который представляется информация | B5: 2026 | C5: 2027 | D5: 2028 | E5: 2029 | F5: 2030 | G5: 2031 | H5: 2032 | I5: 2033 | J5: 2034 | K5: 2035 | L5: 2036
A6: Масса твердых коммунальных отходов и отходов производства и потребления после обработки твердых коммунальных отходов, накопленных на начало года, тыс. тонн | B6: 0 | C6: 0 | D6: 0 | E6: 0 | F6: 0 | G6: 0 | H6: 0 | I6: 0 | J6: 0 | K6: 0 | L6: 0
A7: Масса твердых коммунальных отходов, принятых из других субъектов Российской Федерации в течение года, зон деятельности региональных операторов, тыс. тонн | B7: 0 | C7: 0 | D7: 0 | E7: 0 | F7: 0 | G7: 0 | H7: 0 | I7: 0 | J7: 0 | K7: 0 | L7: 0
A8: Масса образованных в течение года твердых коммунальных отходов, тыс. тонн | B8: =SUM(B9:B135) -> 187.10242 | C8: =SUM(C9:C135) -> 187.10242 | D8: =SUM(D9:D135) -> 187.10242 | E8: =SUM(E9:E135) -> 187.10242 | F8: =SUM(F9:F135) -> 187.10242 | G8: =SUM(G9:G135) -> 187.10242 | H8: =SUM(H9:H135) -> 187.10242 | I8: =SUM(I9:I135) -> 187.10242 | ... L8: =SUM(L9:L135) -> 187.10242
A9: Городской округ город Курск | B9: 134.617 | C9: 134.617 | D9: 134.617 | E9: 134.617 | F9: 134.617 | G9: 134.617 | H9: 134.617 | I9: 134.617 | J9: 134.617 | K9: 134.617 | L9: 134.617
A10: Городской округ город Щигры | B10: 4.068 | C10: 4.068 | D10: 4.068 | E10: 4.068 | F10: 4.068 | G10: 4.068 | H10: 4.068 | I10: 4.068 | J10: 4.068 | K10: 4.068 | L10: 4.068
A11: Городское поселение поселок Горшечное | B11: 1.43214 | C11: 1.43214 | D11: 1.43214 | E11: 1.43214 | F11: 1.43214 | G11: 1.43214 | H11: 1.43214 | I11: 1.43214 | J11: 1.43214 | K11: 1.43214 | L11: 1.43214
A12: Сельское поселение Богатыревский сельсовет | B12: 0.06053 | C12: 0.06053 | D12: 0.06053 | E12: 0.06053 | F12: 0.06053 | G12: 0.06053 | H12: 0.06053 | I12: 0.06053 | J12: 0.06053 | K12: 0.06053 | L12: 0.06053
A13: Сельское поселение Быковский сельсовет | B13: 0.12577 | C13: 0.12577 | D13: 0.12577 | E13: 0.12577 | F13: 0.12577 | G13: 0.12577 | H13: 0.12577 | I13: 0.12577 | J13: 0.12577 | K13: 0.12577 | L13: 0.12577
A14: Сельское поселение Ключевский сельсовет | B14: 0.07352 | C14: 0.07352 | D14: 0.07352 | E14: 0.07352 | F14: 0.07352 | G14: 0.07352 | H14: 0.07352 | I14: 0.07352 | J14: 0.07352 | K14: 0.07352 | L14: 0.07352
A15: Сельское поселение Куньевский сельсовет | B15: 0.23661 | C15: 0.23661 | D15: 0.23661 | E15: 0.23661 | F15: 0.23661 | G15: 0.23661 | H15: 0.23661 | I15: 0.23661 | J15: 0.23661 | K15: 0.23661 | L15: 0.23661
A16: Сельское поселение Нижнеборковский сельсовет | B16: 0.26841 | C16: 0.26841 | D16: 0.26841 | E16: 0.26841 | F16: 0.26841 | G16: 0.26841 | H16: 0.26841 | I16: 0.26841 | J16: 0.26841 | K16: 0.26841 | L16: 0.26841
A17: Сельское поселение Новомеловский сельсовет | B17: 0.30351 | C17: 0.30351 | D17: 0.30351 | E17: 0.30351 | F17: 0.30351 | G17: 0.30351 | H17: 0.30351 | I17: 0.30351 | J17: 0.30351 | K17: 0.30351 | L17: 0.30351
A18: Сельское поселение Солдатский сельсовет Горшеченского района | B18: 0.27393 | C18: 0.27393 | D18: 0.27393 | E18: 0.27393 | F18: 0.27393 | G18: 0.27393 | H18: 0.27393 | I18: 0.27393 | J18: 0.27393 | K18: 0.27393 | L18: 0.27393
A19: Сельское поселение Сосновский сельсовет | B19: 0.20428 | C19: 0.20428 | D19: 0.20428 | E19: 0.20428 | F19: 0.20428 | G19: 0.20428 | H19: 0.20428 | I19: 0.20428 | J19: 0.20428 | K19: 0.20428 | L19: 0.20428
A20: Сельское поселение Среднеапоченский сельсовет | B20: 0.18326 | C20: 0.18326 | D20: 0.18326 | E20: 0.18326 | F20: 0.18326 | G20: 0.18326 | H20: 0.18326 | I20: 0.18326 | J20: 0.18326 | K20: 0.18326 | L20: 0.18326
... A144: Расчетный коэффициент плотности твердых коммунальных отходов, тонн на куб. метр | B144: 0.132 | C144: 0.132 | D144: 0.132 | E144: 0.132 | F144: 0.132 | G144: 0.132 | H144: 0.132 | I144: 0.132 | J144: 0.132 | K144: 0.132 | L144: 0.132
