Workbook
Name вид: '[1]Тарифный источник'!$N$6:$N$1085
Name Зоны: OFFSET('[1]Зоны деятельности'!$A$2,MATCH('[1]ВВОД ПАРАМЕТРОВ'!$B$1,'[1]Зоны деятельности'!$A$2:$A$328,0)-1,1,COUNTIF('[1]Зоны деятельности'!$A$2:$A$328,'[1]ВВОД ПАРАМЕТРОВ'!$B$1),1)
Name плотность: '[1]Баланс, контейнеры, транспорт'!$C$1
Name регионы: [1]Параметры!$B$3:$B$87

Sheet Сравнение
A1: Сравнение стоимости транспортирования ТКО с использованием и без использования перегрузочных станций
A2: Идентификатор | B2: Реестровый номер | C2: Наименование объекта | D2: Год (планируемого) ввода объекта в эксплуатацию | F2: Годовая мощность объекта, т | G2: Масса транспортирования ТКО, т | H2: ТКМ 1 звено | I2: ТКМ 2 звено | J2: Стоимость ТКМ 1 плеча, руб | K2: Стоимость ТКМ 2 плеча, руб | L2: Прогнозная стоимость транспортирования ТКО, тыс. руб. | M2: Расходы на создание и эксплуатацию ПС, тыс. руб./год | N2: ИТОГО стоимость транспортирования, тыс. руб. | O2: Экономия (+) / перерасход (-), тыс. руб
A3: 3782901d-cbce-40b3-8c0c-e4bc4108e942 | B3: 1-0047-46 | C3: Площадка перегруза в Железногорске | D3: 2030 | E3: транспортирование с использованием перегрузочной станции | F3: 32000 | G3: 31639.97 | H3: =Железногорск!D22 -> 366281.06 | I3: =Железногорск!E22 -> 4567530.2 | J3: 156.69 | K3: 14.37 | L3: =(H3*J3+I3*K3)/1000 -> 123027.99 | M3: 77248.264 | N3: =L3+M3 -> 200276.25 | O3: =N4-N3 -> 253871.51
E4: транспортирование без использования перегрузочной станции | H4: =Железногорск!G22 -> 4387053.3 | J4: 103.52 | L4: =(H4*J4+I4*K4)/1000 -> 454147.76 | N4: =L4+M4 -> 454147.76
A5: 80d1e29e-412e-49e9-80d0-5ce3db644335 | B5: 1-0040-46 | C5: Площадка накопления для перегрузки в Пристенском районе | D5: 2028 | E5: транспортирование с использованием перегрузочной станции | F5: 3000 | G5: 3000.7 | H5: =Пристенский!D17 -> 28654.475 | I5: =Пристенский!E17 -> 343695.09 | J5: 156.69 | K5: 14.37 | L5: =(H5*J5+I5*K5)/1000 -> 9428.7682 | M5: 14808.099 | N5: =L5+M5 -> 24236.867 | O5: =N6-N5 -> 13538.768
E6: транспортирование без использования перегрузочной станции | H6: =Пристенский!G17 -> 364911.47 | J6: 103.52 | L6: =(H6*J6+I6*K6)/1000 -> 37775.635 | N6: =L6+M6 -> 37775.635
A7: f7e58bb1-8294-4c75-b71f-13fd8690de4e | B7: 1-0032-46 | C7: Площадка накопления для перегрузки в Щигровском районе | D7: 2028 | E7: транспортирование с использованием перегрузочной станции | F7: 14000 | G7: 13637.21 | H7: =Щигровский!D47 -> 457834.46 | I7: =Щигровский!E47 -> 1528942.3 | J7: 156.69 | K7: 14.37 | L7: =(H7*J7+I7*K7)/1000 -> 93708.982 | M7: 60098.08 | N7: =L7+M7 -> 153807.06 | O7: =N8-N7 -> 26119.189
E8: транспортирование без использования перегрузочной станции | H8: =Щигровский!G47 -> 1738082 | J8: 103.52 | L8: =(H8*J8+I8*K8)/1000 -> 179926.25 | N8: =L8+M8 -> 179926.25
A9: 55e5c564-6d53-4491-bdf8-1d17328ab445 | B9: 1-0041-46 | C9: Площадка накопления для перегрузки в Беловском районе | D9: 2028 | E9: транспортирование с использованием перегрузочной станции | F9: 3500 | G9: 3440.5 | H9: =Беловский!D29 -> 61046.443 | I9: =Беловский!E29 -> 317897.78 | J9: 156.69 | K9: 14.37 | L9: =(H9*J9+I9*K9)/1000 -> 14133.558 | M9: 15095.198 | N9: =L9+M9 -> 29228.756 | O9: =N10-N9 -> 8825.0313
E10: транспортирование без использования перегрузочной станции | H10: =Беловский!G29 -> 367598.41 | J10: 103.52 | L10: =(H10*J10+I10*K10)/1000 -> 38053.788 | N10: =L10+M10 -> 38053.788
A11: 61f505dc-e299-415d-b1ae-7dfa9e6e2da2 | B11: 1-0039-46 | C11: Площадка накопления для перегрузки в Суджанском районе | D11: 2028 | E11: транспортирование с использованием перегрузочной станции | F11: 11000 | G11: 10359 | H11: =Суджанский!D52 -> 230634.91 | I11: =Суджанский!E52 -> 866381.63 | J11: 156.69 | K11: 14.37 | L11: =(H11*J11+I11*K11)/1000 -> 48588.087 | M11: 57958.082 | N11: =L11+M11 -> 106546.17 | O11: =N12-N11 -> -3565.6148
E12: транспортирование без использования перегрузочной станции | H12: =Суджанский!G52 -> 994788.98 | J12: 103.52 | L12: =(H12*J12+I12*K12)/1000 -> 102980.56 | N12: =L12+M12 -> 102980.56
A13: 1ae1ba22-da91-4d32-8377-1e969ae1cdb1 | B13: 1-0037-46 | C13: Площадка накопления для перегрузки "Фатеж" | D13: 2028 | E13: транспортирование с использованием перегрузочной станции | F13: 17000 | G13: 16458.47 | H13: =Фатеж!D47 -> 690806.73 | I13: =Фатеж!E47 -> 1198294.9 | J13: 156.69 | K13: 14.37 | L13: =(H13*J13+I13*K13)/1000 -> 125462 | M13: 61939.783 | N13: =L13+M13 -> 187401.79 | O13: =N14-N13 -> -6828.1871
E14: транспортирование без использования перегрузочной станции | H14: =Фатеж!G47 -> 1744335.4 | J14: 103.52 | L14: =(H14*J14+I14*K14)/1000 -> 180573.6 | N14: =L14+M14 -> 180573.6
A15: 1deee6af-ea44-486d-ba75-8f078806d48a | B15: 1-0042-46 | C15: Площадка накопления для перегрузки "Обоянь" | D15: 2028 | E15: транспортирование с использованием перегрузочной станции | F15: 10000 | G15: 10090.92 | H15: =Обоянь!D47 -> 172572.8 | I15: =Обоянь!E47 -> 783008.34 | J15: 156.69 | K15: 14.37 | L15: =(H15*J15+I15*K15)/1000 -> 38292.262 | M15: 57783.081 | N15: =L15+M15 -> 96075.344 | O15: =N16-N15 -> -4394.8803
E16: транспортирование без использования перегрузочной станции | H16: =Обоянь!G47 -> 885630.44 | J16: 103.52 | L16: =(H16*J16+I16*K16)/1000 -> 91680.463 | N16: =L16+M16 -> 91680.463
A17: 7471880b-e70a-4226-beb9-e2e7fb5239a1 | B17: 1-0036-46 | C17: Площадка накопления для перегрузки в Медвенском районе | D17: 2028 | E17: транспортирование с использованием перегрузочной станции | F17: 4000 | G17: 3791 | H17: =Медвенский!D47 -> 71355.471 | I17: =Медвенский!E47 -> 231876.27 | J17: 156.69 | K17: 14.37 | L17: =(H17*J17+I17*K17)/1000 -> 14512.751 | M17: 24368.663 | N17: =L17+M17 -> 38881.414 | O17: =N18-N17 -> -12743.606
E18: транспортирование без использования перегрузочной станции | H18: =Медвенский!G47 -> 252490.41 | J18: 103.52 | L18: =(H18*J18+I18*K18)/1000 -> 26137.808 | N18: =L18+M18 -> 26137.808
A19: 5f189fa6-bb2e-485c-9448-2763876390a1 | B19: 1-0035-46 | C19: Площадка накопления для перегрузки "Хомутовка" | D19: 2028 | E19: транспортирование с использованием перегрузочной станции | F19: 2500 | G19: 2245.57 | H19: =Хомутовка!D47 -> 34562.099 | I19: =Хомутовка!E47 -> 416785.51 | J19: 156.69 | K19: 14.37 | L19: =(H19*J19+I19*K19)/1000 -> 11404.743 | M19: 14315.154 | N19: =L19+M19 -> 25719.897 | O19: =N20-N19 -> 18209.596
E20: транспортирование без использования перегрузочной станции | H20: =Хомутовка!G47 -> 424357.55 | J20: 103.52 | L20: =(H20*J20+I20*K20)/1000 -> 43929.493 | N20: =L20+M20 -> 43929.493
A21: ce4fad21-23d1-474c-882e-8dd8d79b13b4 | B21: 1-0031-46 | C21: Площадка накопления для перегруза отходов в Мантуровском районе | D21: 2028 | E21: транспортирование с использованием перегрузочной станции | F21: 5000 | G21: 5002.31 | H21: =Мантуровский!D47 -> 122909.03 | I21: =Мантуровский!E47 -> 633598.86 | J21: 156.69 | K21: 14.37 | L21: =(H21*J21+I21*K21)/1000 -> 28363.432 | M21: 25159.4 | N21: =L21+M21 -> 53522.832 | O21: =N22-N21 -> 14195.173
E22: транспортирование без использования перегрузочной станции | H22: =Мантуровский!G47 -> 654153.83 | J22: 103.52 | L22: =(H22*J22+I22*K22)/1000 -> 67718.005 | N22: =L22+M22 -> 67718.005
A23: dfc22c3c-17b8-4cb8-8112-ca008f1322b1 | B23: 1-0034-46 | C23: Площадка накопления для перегрузки в Горшеченском районе | D23: 2028 | E23: транспортирование с использованием перегрузочной станции | F23: 3500 | G23: 3414.54 | H23: =Горшеченский!D47 -> 67157.253 | I23: =Горшеченский!E47 -> 636882.05 | J23: 156.69 | K23: 14.37 | L23: =(H23*J23+I23*K23)/1000 -> 19674.865 | M23: 15078.251 | N23: =L23+M23 -> 34753.117 | O23: =N24-N23 -> 29717.059
E24: транспортирование без использования перегрузочной станции | H24: =Горшеченский!G47 -> 622779.9 | J24: 103.52 | L24: =(H24*J24+I24*K24)/1000 -> 64470.176 | N24: =L24+M24 -> 64470.176
A25: ae36009b-70c9-44ca-9d40-d3714d87a271 | B25: 1-0038-46 | C25: Площадка накопления для перегрузки в Глушковском районе | D25: 2028 | E25: транспортирование с использованием перегрузочной станции | F25: 500 | G25: 134.45 | H25: =Глушковский!D47 -> 2573.2929 | I25: =Глушковский!E47 -> 21297.966 | J25: 156.69 | K25: 14.37 | L25: =(H25*J25+I25*K25)/1000 -> 709.26103 | M25: 12764.402 | N25: =L25+M25 -> 13473.663 | O25: =N26-N25 -> -11521
E26: транспортирование без использования перегрузочной станции | H26: =Глушковский!G47 -> 18862.661 | J26: 103.52 | L26: =(H26*J26+I26*K26)/1000 -> 1952.6627 | N26: =L26+M26 -> 1952.6627
A27: af282fb6-411e-4418-a3e1-5c83b37fbf99 | B27: 1-0033-46 | C27: Площадка накопления для перегрузки в Касторенском районе | D27: 2029 | E27: транспортирование с использованием перегрузочной станции | F27: 3500 | G27: 3262.98 | H27: =Касторенский!D53 -> 40986.236 | I27: =Касторенский!E53 -> 637906.87 | J27: 156.69 | K27: 14.37 | L27: =(H27*J27+I27*K27)/1000 -> 15588.855 | M27: 14979.314 | N27: =L27+M27 -> 30568.169 | O27: =N28-N27 -> 35197.068
E28: транспортирование без использования перегрузочной станции | H28: =Касторенский!G53 -> 635290.15 | J28: 103.52 | L28: =(H28*J28+I28*K28)/1000 -> 65765.237 | N28: =L28+M28 -> 65765.237
A29: 795700af-1132-4714-950c-0932f55f9af4 | B29: 1-0046-46 | C29: Площадка перегруза в Рыльском районе | D29: 2030 | E29: транспортирование с использованием перегрузочной станции | F29: 10000 | G29: 9472.26 | H29: =Рыльский!D68 -> 156784.02 | I29: =Рыльский!E68 -> 1086542.8 | J29: 156.69 | K29: 14.37 | L29: =(H29*J29+I29*K29)/1000 -> 40180.108 | M29: 57379.223 | N29: =L29+M29 -> 97559.332 | O29: =N30-N29 -> 17333.015
E30: транспортирование без использования перегрузочной станции | H30: =Рыльский!G68 -> 1109856.5 | J30: 103.52 | L30: =(H30*J30+I30*K30)/1000 -> 114892.35 | N30: =L30+M30 -> 114892.35

Sheet Железногорск
D2: с перегрузкой | G2: без перегрузки
A3: ID (Источник) | B3: Наименование источника | C3: Образование отходов | D3: ТКМ 1 звено | E3: ТКМ 2 звено | G3: ТКМ 1 звено
A4: 70645594-59ce-45fa-bf83-c9d0e72f9aa0 | B4: Сельское поселение Андросовский сельсовет | C4: 19.46 | D4: 214.81953 | E4: 2809.2358 | G4: 2498.7788
A5: 70645594-59ce-45fa-bf83-c9d0e72f9aa0 | B5: Сельское поселение Андросовский сельсовет | C5: 27.8 | D5: 306.88504 | E5: 4013.1941 | G5: 3569.684
A6: 7ab0523c-941d-4f7b-b05d-e33b64babb29 | B6: Городское поселение поселок Магнитный | C6: 153.16824 | D6: 2474.1321 | E6: 22111.29 | G6: 22347.464
A7: 7ab0523c-941d-4f7b-b05d-e33b64babb29 | B7: Городское поселение поселок Магнитный | C7: 218.81176 | D7: 3534.4744 | E7: 31587.557 | G7: 31924.949
A8: 76d9fb2e-2f06-4405-8e9d-04ca797ca184 | B8: Сельское поселение Городновский сельсовет | C8: 60.71471 | D8: 1409.4565 | E8: 8764.7445 | G8: 8183.1622
A9: 76d9fb2e-2f06-4405-8e9d-04ca797ca184 | B9: Сельское поселение Городновский сельсовет | C9: 86.73529 | D9: 2013.5093 | E9: 12521.064 | G9: 11690.232
A10: 434465d9-1b1b-4496-b257-8b63968bf90b | B10: Городской округ город Железногорск | C10: 12088.588 | D10: 132491.12 | E10: 1745102.5 | G10: 1673031.5
A11: 434465d9-1b1b-4496-b257-8b63968bf90b | B11: Городской округ город Железногорск | C11: 17269.412 | D11: 189273.04 | E11: 2493003.6 | G11: 2390044.9
A12: 7f9b8c6e-007b-430b-b586-ff61625030cf | B12: Сельское поселение Студенокский сельсовет Железногорского района | C12: 222.66588 | D12: 3162.7708 | E12: 32143.935 | G12: 31790.882
A13: 7f9b8c6e-007b-430b-b586-ff61625030cf | B13: Сельское поселение Студенокский сельсовет Железногорского района | C13: 318.09412 | D13: 4518.244 | E13: 45919.907 | G13: 45415.545
A14: 0c27ad83-c9a7-4bd8-a857-6d820c7b468a | B14: Сельское поселение Первоавгустовский сельсовет | C14: 181.84353 | D14: 6878.3131 | E14: 26250.841 | G14: 27151.066
A15: 0c27ad83-c9a7-4bd8-a857-6d820c7b468a | B15: Сельское поселение Первоавгустовский сельсовет | C15: 259.77647 | D15: 9826.1615 | E15: 37501.201 | G15: 38787.237
... A21: d3df436c-51e4-4bc3-a16d-78d3d9b8c140 | B21: Сельское поселение Разветьевский сельсовет | C21: 227.42353 | D21: 3184.0116 | E21: 32830.747 | G21: 30814.278
A22: ИТОГО | C22: =SUM(C4:C21) -> 31639.97 | D22: =SUM(D4:D21) -> 366281.06 | E22: =SUM(E4:E21) -> 4567530.2 | G22: =SUM(G4:G21) -> 4387053.3

Sheet Пристенский
D1: с перегрузкой | G1: без перегрузки
A2: ID (Источник) | B2: Наименование источника | C2: Образование отходов | D2: ТКМ 1 звено | E2: ТКМ 2 звено | G2: ТКМ 1 звено
A3: 99123c51-53b2-4e5a-a02c-5a5df5a44b5d | B3: Сельское поселение Нагольненский сельсовет | C3: 93.42118 | D3: 640.29434 | E3: 10700.303 | G3: 11314.759
A4: 99123c51-53b2-4e5a-a02c-5a5df5a44b5d | B4: Сельское поселение Нагольненский сельсовет | C4: 133.45882 | D4: 914.7062 | E4: 15286.148 | G4: 16163.941
A5: 95515230-a3e9-4772-b79a-d000612d3779 | B5: Сельское поселение Ярыгинский сельсовет | C5: 83.55118 | D5: 1089.4227 | E5: 9569.8102 | G5: 10363.293
A6: 95515230-a3e9-4772-b79a-d000612d3779 | B6: Сельское поселение Ярыгинский сельсовет | C6: 119.35882 | D6: 1556.3182 | E6: 13671.157 | G6: 14804.704
A7: 18a2956a-730e-4ef4-a24c-dddb615572ea | B7: Сельское поселение Пристенский сельсовет | C7: 79.62706 | D7: 1485.874 | E7: 9120.3484 | G7: 10584.199
A8: 18a2956a-730e-4ef4-a24c-dddb615572ea | B8: Сельское поселение Пристенский сельсовет | C8: 113.75294 | D8: 2122.6771 | E8: 13029.069 | G8: 15120.284
A9: 5605824b-c440-4abc-ae67-0f7c03346841 | B9: Городское поселение поселок Пристень | C9: 536.99059 | D9: 3222.074 | E9: 61505.992 | G9: 64579.543
A10: 5605824b-c440-4abc-ae67-0f7c03346841 | B10: Городское поселение поселок Пристень | C10: 767.12941 | D10: 4602.9628 | E10: 87865.703 | G10: 92256.49
A11: 10c74434-0035-4890-9915-a0f8fe6aa484 | B11: Сельское поселение Черновецкий сельсовет | C11: 90.84353 | D11: 2842.7237 | E11: 10405.064 | G11: 13062.752
A12: 10c74434-0035-4890-9915-a0f8fe6aa484 | B12: Сельское поселение Черновецкий сельсовет | C12: 129.77647 | D12: 4061.0339 | E12: 14864.377 | G12: 18661.074
A13: 7e24f907-780d-43e1-843f-4d8f9e8019a3 | B13: Городское поселение поселок Кировский | C13: 279.37412 | D13: 1182.8428 | E13: 31999.038 | G13: 31133.205
A14: 7e24f907-780d-43e1-843f-4d8f9e8019a3 | B14: Городское поселение поселок Кировский | C14: 399.10588 | D14: 1689.7754 | E14: 45712.912 | G14: 44476.008
... A16: bdc6c7bc-2c83-488a-8105-8757a329c86f | B16: Сельское поселение Среднеольшанский сельсовет | C16: 102.53529 | D16: 1908.0999 | E16: 11744.219 | G16: 13171.303
C17: =SUM(C3:C16) -> 3000.7 | D17: =SUM(D3:D16) -> 28654.475 | E17: =SUM(E3:E16) -> 343695.09 | G17: =SUM(G3:G16) -> 364911.47

Sheet Щигровский
D1: с перегрузкой | G1: без перегрузки
A2: ID (Источник) | B2: Наименование источника | C2: Образование отходов | D2: ТКМ 1 звено | E2: ТКМ 2 звено | G2: ТКМ 1 звено
A3: 79d553f6-a9c0-4241-bc6b-b83eea0c6592 | B3: =VLOOKUP(A3,'Схема с ПС'!$B$2:$C$1000,2,0) -> Сельское поселение Михайлоанненский сельсовет | C3: =SUMIF('Схема с ПС'!$B$2:$B$1000,A3,'Схема с ПС'!$N$2:$N$1000) -> 149.66 | D3: =SUMIF('Схема с ПС'!$B$2:$B$1000,A3,'Схема с ПС'!$T$2:$T$1000) -> 10676.738 | E3: =SUMIF('Схема с ПС'!$B$2:$B$1000,A3,'Схема с ПС'!$AJ$2:$AJ$1000) -> 16779.202 | G3: =SUMIF('Схема без ПС'!$B$2:$B$1000,A3,'Схема без ПС'!$T$2:$T$1000) -> 27579.944
A4: 89296618-9df0-4fe9-8d93-f4f75d368255 | B4: =VLOOKUP(A4,'Схема с ПС'!$B$2:$C$1000,2,0) -> Сельское поселение Троицкокраснянский сельсовет | C4: =SUMIF('Схема с ПС'!$B$2:$B$1000,A4,'Схема с ПС'!$N$2:$N$1000) -> 72.91 | D4: =SUMIF('Схема с ПС'!$B$2:$B$1000,A4,'Схема с ПС'!$T$2:$T$1000) -> 2844.5712 | E4: =SUMIF('Схема с ПС'!$B$2:$B$1000,A4,'Схема с ПС'!$AJ$2:$AJ$1000) -> 8174.3392 | G4: =SUMIF('Схема без ПС'!$B$2:$B$1000,A4,'Схема без ПС'!$T$2:$T$1000) -> 6882.9717
A5: 94bc99f0-89b0-4ca8-9f23-7938929a5876 | B5: =VLOOKUP(A5,'Схема с ПС'!$B$2:$C$1000,2,0) -> Сельское поселение Быстрецкий сельсовет | C5: =SUMIF('Схема с ПС'!$B$2:$B$1000,A5,'Схема с ПС'!$N$2:$N$1000) -> 136.24 | D5: =SUMIF('Схема с ПС'!$B$2:$B$1000,A5,'Схема с ПС'!$T$2:$T$1000) -> 8815.2645 | E5: =SUMIF('Схема с ПС'!$B$2:$B$1000,A5,'Схема с ПС'!$AJ$2:$AJ$1000) -> 15274.612 | G5: =SUMIF('Схема без ПС'!$B$2:$B$1000,A5,'Схема без ПС'!$T$2:$T$1000) -> 17829.721
A6: 7d3bffb4-2ea6-4d15-8ec3-52627905249d | B6: =VLOOKUP(A6,'Схема с ПС'!$B$2:$C$1000,2,0) -> Сельское поселение Вышнеольховатский сельсовет | C6: =SUMIF('Схема с ПС'!$B$2:$B$1000,A6,'Схема с ПС'!$N$2:$N$1000) -> 56.47 | D6: =SUMIF('Схема с ПС'!$B$2:$B$1000,A6,'Схема с ПС'!$T$2:$T$1000) -> 1526.7731 | E6: =SUMIF('Схема с ПС'!$B$2:$B$1000,A6,'Схема с ПС'!$AJ$2:$AJ$1000) -> 6331.1608 | G6: =SUMIF('Схема без ПС'!$B$2:$B$1000,A6,'Схема без ПС'!$T$2:$T$1000) -> 6528.3277
A7: 087836a4-e130-408d-89d8-bfba776f8647 | B7: =VLOOKUP(A7,'Схема с ПС'!$B$2:$C$1000,2,0) -> Сельское поселение Знаменский сельсовет Советский район | C7: =SUMIF('Схема с ПС'!$B$2:$B$1000,A7,'Схема с ПС'!$N$2:$N$1000) -> 119.05 | D7: =SUMIF('Схема с ПС'!$B$2:$B$1000,A7,'Схема с ПС'!$T$2:$T$1000) -> 10446.711 | E7: =SUMIF('Схема с ПС'!$B$2:$B$1000,A7,'Схема с ПС'!$AJ$2:$AJ$1000) -> 13347.347 | G7: =SUMIF('Схема без ПС'!$B$2:$B$1000,A7,'Схема без ПС'!$T$2:$T$1000) -> 20184.603
A8: babe1273-316a-4376-b03a-f88e245f5d09 | B8: =VLOOKUP(A8,'Схема с ПС'!$B$2:$C$1000,2,0) -> Сельское поселение Тимский сельсовет | C8: =SUMIF('Схема с ПС'!$B$2:$B$1000,A8,'Схема с ПС'!$N$2:$N$1000) -> 346.01 | D8: =SUMIF('Схема с ПС'!$B$2:$B$1000,A8,'Схема с ПС'!$T$2:$T$1000) -> 15771.135 | E8: =SUMIF('Схема с ПС'!$B$2:$B$1000,A8,'Схема с ПС'!$AJ$2:$AJ$1000) -> 38793.075 | G8: =SUMIF('Схема без ПС'!$B$2:$B$1000,A8,'Схема без ПС'!$T$2:$T$1000) -> 38643.398
A9: de12e5b5-2b31-4f85-89f1-ca0f1ce74afa | B9: =VLOOKUP(A9,'Схема с ПС'!$B$2:$C$1000,2,0) -> Сельское поселение Михайловский сельсовет Черемисиновский район | C9: =SUMIF('Схема с ПС'!$B$2:$B$1000,A9,'Схема с ПС'!$N$2:$N$1000) -> 259.67 | D9: =SUMIF('Схема с ПС'!$B$2:$B$1000,A9,'Схема с ПС'!$T$2:$T$1000) -> 5317.1397 | E9: =SUMIF('Схема с ПС'!$B$2:$B$1000,A9,'Схема с ПС'!$AJ$2:$AJ$1000) -> 29113.025 | G9: =SUMIF('Схема без ПС'!$B$2:$B$1000,A9,'Схема без ПС'!$T$2:$T$1000) -> 34326.769
A10: 846a7254-55c1-4e12-9cd8-54b6e8fcfa5f | B10: =VLOOKUP(A10,'Схема с ПС'!$B$2:$C$1000,2,0) -> Сельское поселение Косоржанский сельсовет | C10: =SUMIF('Схема с ПС'!$B$2:$B$1000,A10,'Схема с ПС'!$N$2:$N$1000) -> 149.27 | D10: =SUMIF('Схема с ПС'!$B$2:$B$1000,A10,'Схема с ПС'!$T$2:$T$1000) -> 6316.5189 | E10: =SUMIF('Схема с ПС'!$B$2:$B$1000,A10,'Схема с ПС'!$AJ$2:$AJ$1000) -> 16735.477 | G10: =SUMIF('Схема без ПС'!$B$2:$B$1000,A10,'Схема без ПС'!$T$2:$T$1000) -> 19537.381
A11: 788d0cdd-5e8e-4db2-81b2-69faa48286b1 | B11: =VLOOKUP(A11,'Схема с ПС'!$B$2:$C$1000,2,0) -> Сельское поселение Коммунаровский сельсовет | C11: =SUMIF('Схема с ПС'!$B$2:$B$1000,A11,'Схема с ПС'!$N$2:$N$1000) -> 323.43 | D11: =SUMIF('Схема с ПС'!$B$2:$B$1000,A11,'Схема с ПС'!$T$2:$T$1000) -> 18694.188 | E11: =SUMIF('Схема с ПС'!$B$2:$B$1000,A11,'Схема с ПС'!$AJ$2:$AJ$1000) -> 36261.508 | G11: =SUMIF('Схема без ПС'!$B$2:$B$1000,A11,'Схема без ПС'!$T$2:$T$1000) -> 54416.802
A12: bc44ab20-9821-4afd-ab3b-a381ecbe9a3b | B12: =VLOOKUP(A12,'Схема с ПС'!$B$2:$C$1000,2,0) -> Сельское поселение Краснополянский сельсовет | C12: =SUMIF('Схема с ПС'!$B$2:$B$1000,A12,'Схема с ПС'!$N$2:$N$1000) -> 316.42 | D12: =SUMIF('Схема с ПС'!$B$2:$B$1000,A12,'Схема с ПС'!$T$2:$T$1000) -> 5631.337 | E12: =SUMIF('Схема с ПС'!$B$2:$B$1000,A12,'Схема с ПС'!$AJ$2:$AJ$1000) -> 35475.578 | G12: =SUMIF('Схема без ПС'!$B$2:$B$1000,A12,'Схема без ПС'!$T$2:$T$1000) -> 41611.473
A13: b25910f4-d4d1-4ffc-92e3-93f9502d1bdc | B13: =VLOOKUP(A13,'Схема с ПС'!$B$2:$C$1000,2,0) -> Сельское поселение Пригородненский сельсовет Щигровский район | C13: =SUMIF('Схема с ПС'!$B$2:$B$1000,A13,'Схема с ПС'!$N$2:$N$1000) -> 377.56 | D13: =SUMIF('Схема с ПС'!$B$2:$B$1000,A13,'Схема с ПС'!$T$2:$T$1000) -> 4762.8853 | E13: =SUMIF('Схема с ПС'!$B$2:$B$1000,A13,'Схема с ПС'!$AJ$2:$AJ$1000) -> 42330.318 | G13: =SUMIF('Схема без ПС'!$B$2:$B$1000,A13,'Схема без ПС'!$T$2:$T$1000) -> 38452.598
A14: b9fd5789-b6bc-4aca-b9cd-58d5fb3c736f | B14: =VLOOKUP(A14,'Схема с ПС'!$B$2:$C$1000,2,0) -> Сельское поселение Ледовский сельсовет | C14: =SUMIF('Схема с ПС'!$B$2:$B$1000,A14,'Схема с ПС'!$N$2:$N$1000) -> 137.58 | D14: =SUMIF('Схема с ПС'!$B$2:$B$1000,A14,'Схема с ПС'!$T$2:$T$1000) -> 6346.8315 | E14: =SUMIF('Схема с ПС'!$B$2:$B$1000,A14,'Схема с ПС'!$AJ$2:$AJ$1000) -> 15424.847 | G14: =SUMIF('Схема без ПС'!$B$2:$B$1000,A14,'Схема без ПС'!$T$2:$T$1000) -> 21734.821
... A43: 80d0cfd9-8698-41d0-b5b6-20d0b6339689 | B43: =VLOOKUP(A43,'Схема с ПС'!$B$2:$C$1000,2,0) -> Сельское поселение Ниженский сельсовет | C43: =SUMIF('Схема с ПС'!$B$2:$B$1000,A43,'Схема с ПС'!$N$2:$N$1000) -> 132.04 | D43: =SUMIF('Схема с ПС'!$B$2:$B$1000,A43,'Схема с ПС'!$T$2:$T$1000) -> 4256.4444 | E43: =SUMIF('Схема с ПС'!$B$2:$B$1000,A43,'Схема с ПС'!$AJ$2:$AJ$1000) -> 14803.727 | G43: =SUMIF('Схема без ПС'!$B$2:$B$1000,A43,'Схема без ПС'!$T$2:$T$1000) -> 19007.596
C47: =SUM(C3:C46) -> 13637.21 | D47: =SUM(D3:D46) -> 457834.46 | E47: =SUM(E3:E46) -> 1528942.3 | G47: =SUM(G3:G46) -> 1738082

Sheet Беловский
D1: с перегрузкой | G1: без перегрузки
A2: ID (Источник) | B2: Наименование источника | C2: Образование отходов | D2: ТКМ 1 звено | E2: ТКМ 2 звено | G2: ТКМ 1 звено
A3: c4ae73a5-9095-45f2-a88a-add517c2f76b | B3: Сельское поселение Щеголянский сельсовет | C3: 43.35471 | D3: 417.55568 | E3: 4005.9192 | G3: 3634.2887
A4: c4ae73a5-9095-45f2-a88a-add517c2f76b | B4: Сельское поселение Щеголянский сельсовет | C4: 61.93529 | D4: 596.50811 | E4: 5722.7416 | G4: 5191.841
A5: 7928c865-06d0-4bc3-a2de-3164f6ab6fa1 | B5: Сельское поселение Малосолдатский сельсовет | C5: 70.36647 | D5: 1371.7372 | E5: 6501.7715 | G5: 7800.025
A6: 7928c865-06d0-4bc3-a2de-3164f6ab6fa1 | B6: Сельское поселение Малосолдатский сельсовет | C6: 100.52353 | D6: 1959.6246 | E6: 9288.245 | G6: 11142.893
A7: e9e2a876-977f-49de-b04a-9aacb1d39b79 | B7: Сельское поселение Беловский сельсовет | C7: 305.92882 | D7: 4401.3028 | E7: 28267.43 | G7: 32349.251
A8: e9e2a876-977f-49de-b04a-9aacb1d39b79 | B8: Сельское поселение Беловский сельсовет | C8: 437.04118 | D8: 6287.5755 | E8: 40382.044 | G8: 46213.216
A9: 756b09d0-8e1f-445d-ab33-a3577dc40846 | B9: Сельское поселение Песчанский сельсовет | C9: 105.71647 | D9: 2399.1767 | E9: 9768.0661 | G9: 11652.637
A10: 756b09d0-8e1f-445d-ab33-a3577dc40846 | B10: Сельское поселение Песчанский сельсовет | C10: 151.02353 | D10: 3427.3953 | E10: 13954.38 | G10: 16646.624
A11: 1477663a-c940-4bab-bb77-f8d861e3d001 | B11: Сельское поселение Гирьянский сельсовет | C11: 188.42353 | D11: 3083.835 | E11: 17410.092 | G11: 19576.72
A12: 1477663a-c940-4bab-bb77-f8d861e3d001 | B12: Сельское поселение Гирьянский сельсовет | C12: 269.17647 | D12: 4405.4785 | E12: 24871.56 | G12: 27966.742
A13: ba7e0837-ec13-4efd-9f9c-f6552cd63de4 | B13: Сельское поселение Корочанский сельсовет | C13: 79.48294 | D13: 742.00476 | E13: 7344.1217 | G13: 8003.1223
A14: ba7e0837-ec13-4efd-9f9c-f6552cd63de4 | B14: Сельское поселение Корочанский сельсовет | C14: 113.54706 | D14: 1060.0068 | E14: 10491.602 | G14: 11433.032
... A28: de98cfcf-00ca-418c-9101-eeee9096d07a | B28: Сельское поселение Вишневский сельсовет Беловского района | C28: 102.74706 | D28: 2167.354 | E28: 9493.6963 | G28: 11553.751
C29: =SUM(C3:C28) -> 3440.5 | D29: =SUM(D3:D28) -> 61046.443 | E29: =SUM(E3:E28) -> 317897.78 | G29: =SUM(G3:G28) -> 367598.41

Sheet Суджанский
D1: с перегрузкой | G1: без перегрузки
A2: ID (Источник) | B2: Наименование источника | C2: Образование отходов | D2: ТКМ 1 звено | E2: ТКМ 2 звено | G2: ТКМ 1 звено
A3: 7f96aa2b-49e6-4ac5-9e75-e663329e5303 | B3: =VLOOKUP(A3,'Схема с ПС'!$B$2:$C$1000,2,0) -> Городское поселение город Суджа | C3: =SUMIF('Схема с ПС'!$B$2:$B$1000,A3,'Схема с ПС'!$N$2:$N$1000) -> 1431.78 | D3: =SUMIF('Схема с ПС'!$B$2:$B$1000,A3,'Схема с ПС'!$T$2:$T$1000) -> 9308.67 | E3: =SUMIF('Схема с ПС'!$B$2:$B$1000,A3,'Схема с ПС'!$AJ$2:$AJ$1000) -> 119747.84 | G3: =SUMIF('Схема без ПС'!$B$2:$B$1000,A3,'Схема без ПС'!$T$2:$T$1000) -> 120364.47
A4: 9676980f-bb7c-4ec9-9298-c08d31e91586 | B4: =VLOOKUP(A4,'Схема с ПС'!$B$2:$C$1000,2,0) -> Сельское поселение Махновский сельсовет | C4: =SUMIF('Схема с ПС'!$B$2:$B$1000,A4,'Схема с ПС'!$N$2:$N$1000) -> 464.51 | D4: =SUMIF('Схема с ПС'!$B$2:$B$1000,A4,'Схема с ПС'!$T$2:$T$1000) -> 3008.1871 | E4: =SUMIF('Схема с ПС'!$B$2:$B$1000,A4,'Схема с ПС'!$AJ$2:$AJ$1000) -> 38849.593 | G4: =SUMIF('Схема без ПС'!$B$2:$B$1000,A4,'Схема без ПС'!$T$2:$T$1000) -> 39766.442
A5: 9aa44ed4-10ef-494f-8108-ebb2fe581184 | B5: =VLOOKUP(A5,'Схема с ПС'!$B$2:$C$1000,2,0) -> Сельское поселение Уланковский сельсовет | C5: =SUMIF('Схема с ПС'!$B$2:$B$1000,A5,'Схема с ПС'!$N$2:$N$1000) -> 138.51 | D5: =SUMIF('Схема с ПС'!$B$2:$B$1000,A5,'Схема с ПС'!$T$2:$T$1000) -> 1390.8211 | E5: =SUMIF('Схема с ПС'!$B$2:$B$1000,A5,'Схема с ПС'!$AJ$2:$AJ$1000) -> 11584.373 | G5: =SUMIF('Схема без ПС'!$B$2:$B$1000,A5,'Схема без ПС'!$T$2:$T$1000) -> 12860.753
A6: 48448b2d-f432-4fae-bf64-65a993b217e7 | B6: =VLOOKUP(A6,'Схема с ПС'!$B$2:$C$1000,2,0) -> Сельское поселение Любимовский сельсовет Кореневский район | C6: =SUMIF('Схема с ПС'!$B$2:$B$1000,A6,'Схема с ПС'!$N$2:$N$1000) -> 200.7 | D6: =SUMIF('Схема с ПС'!$B$2:$B$1000,A6,'Схема с ПС'!$T$2:$T$1000) -> 6506.458 | E6: =SUMIF('Схема с ПС'!$B$2:$B$1000,A6,'Схема с ПС'!$AJ$2:$AJ$1000) -> 16785.674 | G6: =SUMIF('Схема без ПС'!$B$2:$B$1000,A6,'Схема без ПС'!$T$2:$T$1000) -> 27157.344
A7: 426f1cff-cc31-4c76-9377-5c6b4e4c7250 | B7: =VLOOKUP(A7,'Схема с ПС'!$B$2:$C$1000,2,0) -> Сельское поселение Замостянский сельсовет | C7: =SUMIF('Схема с ПС'!$B$2:$B$1000,A7,'Схема с ПС'!$N$2:$N$1000) -> 933.36 | D7: =SUMIF('Схема с ПС'!$B$2:$B$1000,A7,'Схема с ПС'!$T$2:$T$1000) -> 7982.311 | E7: =SUMIF('Схема с ПС'!$B$2:$B$1000,A7,'Схема с ПС'!$AJ$2:$AJ$1000) -> 78062.164 | G7: =SUMIF('Схема без ПС'!$B$2:$B$1000,A7,'Схема без ПС'!$T$2:$T$1000) -> 78516.47
A8: c983cacb-5076-42cf-8a87-de037192b77e | B8: =VLOOKUP(A8,'Схема с ПС'!$B$2:$C$1000,2,0) -> Сельское поселение Казачелокнянский сельсовет | C8: =SUMIF('Схема с ПС'!$B$2:$B$1000,A8,'Схема с ПС'!$N$2:$N$1000) -> 253.26 | D8: =SUMIF('Схема с ПС'!$B$2:$B$1000,A8,'Схема с ПС'!$T$2:$T$1000) -> 3399.7027 | E8: =SUMIF('Схема с ПС'!$B$2:$B$1000,A8,'Схема с ПС'!$AJ$2:$AJ$1000) -> 21181.563 | G8: =SUMIF('Схема без ПС'!$B$2:$B$1000,A8,'Схема без ПС'!$T$2:$T$1000) -> 22340.773
A9: ae2bc08f-c780-486a-92eb-b4b34b6400db | B9: =VLOOKUP(A9,'Схема с ПС'!$B$2:$C$1000,2,0) -> Сельское поселение Плеховский сельсовет | C9: =SUMIF('Схема с ПС'!$B$2:$B$1000,A9,'Схема с ПС'!$N$2:$N$1000) -> 157.63 | D9: =SUMIF('Схема с ПС'!$B$2:$B$1000,A9,'Схема с ПС'!$T$2:$T$1000) -> 2325.228 | E9: =SUMIF('Схема с ПС'!$B$2:$B$1000,A9,'Схема с ПС'!$AJ$2:$AJ$1000) -> 13183.486 | G9: =SUMIF('Схема без ПС'!$B$2:$B$1000,A9,'Схема без ПС'!$T$2:$T$1000) -> 15131.999
A10: 37139ac4-9b27-425a-9bc5-25475637f67a | B10: =VLOOKUP(A10,'Схема с ПС'!$B$2:$C$1000,2,0) -> Сельское поселение Заолешенский сельсовет | C10: =SUMIF('Схема с ПС'!$B$2:$B$1000,A10,'Схема с ПС'!$N$2:$N$1000) -> 878.6 | D10: =SUMIF('Схема с ПС'!$B$2:$B$1000,A10,'Схема с ПС'!$T$2:$T$1000) -> 7082.9257 | E10: =SUMIF('Схема с ПС'!$B$2:$B$1000,A10,'Схема с ПС'!$AJ$2:$AJ$1000) -> 73482.276 | G10: =SUMIF('Схема без ПС'!$B$2:$B$1000,A10,'Схема без ПС'!$T$2:$T$1000) -> 75600.478
A11: 7375c45f-5fe0-4f1a-8b6a-f798b57c7c6d | B11: =VLOOKUP(A11,'Схема с ПС'!$B$2:$C$1000,2,0) -> Сельское поселение Пореченский сельсовет | C11: =SUMIF('Схема с ПС'!$B$2:$B$1000,A11,'Схема с ПС'!$N$2:$N$1000) -> 370.91 | D11: =SUMIF('Схема с ПС'!$B$2:$B$1000,A11,'Схема с ПС'!$T$2:$T$1000) -> 6785.9246 | E11: =SUMIF('Схема с ПС'!$B$2:$B$1000,A11,'Схема с ПС'!$AJ$2:$AJ$1000) -> 31021.296 | G11: =SUMIF('Схема без ПС'!$B$2:$B$1000,A11,'Схема без ПС'!$T$2:$T$1000) -> 29383.335
A12: 5dbdb2f1-5f52-44fe-955e-5b1cae5d4a83 | B12: =VLOOKUP(A12,'Схема с ПС'!$B$2:$C$1000,2,0) -> Сельское поселение Шептуховский сельсовет | C12: =SUMIF('Схема с ПС'!$B$2:$B$1000,A12,'Схема с ПС'!$N$2:$N$1000) -> 287.55 | D12: =SUMIF('Схема с ПС'!$B$2:$B$1000,A12,'Схема с ПС'!$T$2:$T$1000) -> 15655.105 | E12: =SUMIF('Схема с ПС'!$B$2:$B$1000,A12,'Схема с ПС'!$AJ$2:$AJ$1000) -> 24049.429 | G12: =SUMIF('Схема без ПС'!$B$2:$B$1000,A12,'Схема без ПС'!$T$2:$T$1000) -> 27356.615
A13: 6210ad60-ad5b-4953-849e-b983d91d7618 | B13: =VLOOKUP(A13,'Схема с ПС'!$B$2:$C$1000,2,0) -> Сельское поселение Гончаровский сельсовет | C13: =SUMIF('Схема с ПС'!$B$2:$B$1000,A13,'Схема с ПС'!$N$2:$N$1000) -> 847.88 | D13: =SUMIF('Схема с ПС'!$B$2:$B$1000,A13,'Схема с ПС'!$T$2:$T$1000) -> 6999.9345 | E13: =SUMIF('Схема с ПС'!$B$2:$B$1000,A13,'Схема с ПС'!$AJ$2:$AJ$1000) -> 70912.989 | G13: =SUMIF('Схема без ПС'!$B$2:$B$1000,A13,'Схема без ПС'!$T$2:$T$1000) -> 72765.621
A14: 5ec746bb-151f-4b6a-a5bb-8a2684d8d1a2 | B14: =VLOOKUP(A14,'Схема с ПС'!$B$2:$C$1000,2,0) -> Сельское поселение Новоивановский сельсовет | C14: =SUMIF('Схема с ПС'!$B$2:$B$1000,A14,'Схема с ПС'!$N$2:$N$1000) -> 107.21 | D14: =SUMIF('Схема с ПС'!$B$2:$B$1000,A14,'Схема с ПС'!$T$2:$T$1000) -> 3152.1831 | E14: =SUMIF('Схема с ПС'!$B$2:$B$1000,A14,'Схема с ПС'!$AJ$2:$AJ$1000) -> 8966.5773 | G14: =SUMIF('Схема без ПС'!$B$2:$B$1000,A14,'Схема без ПС'!$T$2:$T$1000) -> 11254.098
... A26: 1c9c2831-d7f2-4a58-9823-1b7c510414e5 | B26: =VLOOKUP(A26,'Схема с ПС'!$B$2:$C$1000,2,0) -> Сельское поселение Сторожевский сельсовет | C26: =SUMIF('Схема с ПС'!$B$2:$B$1000,A26,'Схема с ПС'!$N$2:$N$1000) -> 199.42 | D26: =SUMIF('Схема с ПС'!$B$2:$B$1000,A26,'Схема с ПС'!$T$2:$T$1000) -> 7077.2895 | E26: =SUMIF('Схема с ПС'!$B$2:$B$1000,A26,'Схема с ПС'!$AJ$2:$AJ$1000) -> 16678.62 | G26: =SUMIF('Схема без ПС'!$B$2:$B$1000,A26,'Схема без ПС'!$T$2:$T$1000) -> 15276.565
B52: ИТОГО | C52: =SUM(C3:C51) -> 10359 | D52: =SUM(D3:D51) -> 230634.91 | E52: =SUM(E3:E51) -> 866381.63 | G52: =SUM(G3:G51) -> 994788.98

Sheet Фатеж
D1: с перегрузкой | G1: без перегрузки
A2: ID (Источник) | B2: Наименование источника | C2: Образование отходов | D2: ТКМ 1 звено | E2: ТКМ 2 звено | G2: ТКМ 1 звено
A3: 79bd9e81-3f42-4616-8707-6bca6fbad41c | B3: =VLOOKUP(A3,'Схема с ПС'!$B$2:$C$1000,2,0) -> Сельское поселение 2-й Поныровский сельсовет | C3: =SUMIF('Схема с ПС'!$B$2:$B$1000,Фатеж!A3,'Схема с ПС'!$N$2:$N$1000) -> 158.4 | D3: =SUMIF('Схема с ПС'!$B$2:$B$1000,Фатеж!A3,'Схема с ПС'!$T$2:$T$1000) -> 8359.1696 | E3: =SUMIF('Схема с ПС'!$B$2:$B$1000,Фатеж!A3,'Схема с ПС'!$AJ$2:$AJ$1000) -> 11532.658 | G3: =SUMIF('Схема без ПС'!$B$2:$B$1000,Фатеж!A3,'Схема без ПС'!$T$2:$T$1000) -> 19780.518
A4: c420dd41-57d1-438c-8efe-1d43e98a2ea5 | B4: =VLOOKUP(A4,'Схема с ПС'!$B$2:$C$1000,2,0) -> Сельское поселение Большежировский сельсовет | C4: =SUMIF('Схема с ПС'!$B$2:$B$1000,Фатеж!A4,'Схема с ПС'!$N$2:$N$1000) -> 490.91 | D4: =SUMIF('Схема с ПС'!$B$2:$B$1000,Фатеж!A4,'Схема с ПС'!$T$2:$T$1000) -> 6477.6557 | E4: =SUMIF('Схема с ПС'!$B$2:$B$1000,Фатеж!A4,'Схема с ПС'!$AJ$2:$AJ$1000) -> 35741.776 | G4: =SUMIF('Схема без ПС'!$B$2:$B$1000,Фатеж!A4,'Схема без ПС'!$T$2:$T$1000) -> 32773.25
A5: d7838c7e-d626-4c8b-8f99-c95943aceb9b | B5: =VLOOKUP(A5,'Схема с ПС'!$B$2:$C$1000,2,0) -> Сельское поселение Кармановский сельсовет | C5: =SUMIF('Схема с ПС'!$B$2:$B$1000,Фатеж!A5,'Схема с ПС'!$N$2:$N$1000) -> 253.81 | D5: =SUMIF('Схема с ПС'!$B$2:$B$1000,Фатеж!A5,'Схема с ПС'!$T$2:$T$1000) -> 13258.382 | E5: =SUMIF('Схема с ПС'!$B$2:$B$1000,Фатеж!A5,'Схема с ПС'!$AJ$2:$AJ$1000) -> 18479.192 | G5: =SUMIF('Схема без ПС'!$B$2:$B$1000,Фатеж!A5,'Схема без ПС'!$T$2:$T$1000) -> 32942.622
A6: 596d92ff-5d25-4420-8e84-e6f6c3dd0442 | B6: =VLOOKUP(A6,'Схема с ПС'!$B$2:$C$1000,2,0) -> Сельское поселение Верхнелюбажский сельсовет | C6: =SUMIF('Схема с ПС'!$B$2:$B$1000,Фатеж!A6,'Схема с ПС'!$N$2:$N$1000) -> 567.93 | D6: =SUMIF('Схема с ПС'!$B$2:$B$1000,Фатеж!A6,'Схема с ПС'!$T$2:$T$1000) -> 12227.061 | E6: =SUMIF('Схема с ПС'!$B$2:$B$1000,Фатеж!A6,'Схема с ПС'!$AJ$2:$AJ$1000) -> 41349.385 | G6: =SUMIF('Схема без ПС'!$B$2:$B$1000,Фатеж!A6,'Схема без ПС'!$T$2:$T$1000) -> 53177.355
A7: ed61b635-9191-48fa-8ded-9178dc5f010e | B7: =VLOOKUP(A7,'Схема с ПС'!$B$2:$C$1000,2,0) -> Сельское поселение Солдатский сельсовет Фатежского района | C7: =SUMIF('Схема с ПС'!$B$2:$B$1000,Фатеж!A7,'Схема с ПС'!$N$2:$N$1000) -> 260.69 | D7: =SUMIF('Схема с ПС'!$B$2:$B$1000,Фатеж!A7,'Схема с ПС'!$T$2:$T$1000) -> 7522.1902 | E7: =SUMIF('Схема с ПС'!$B$2:$B$1000,Фатеж!A7,'Схема с ПС'!$AJ$2:$AJ$1000) -> 18980.105 | G7: =SUMIF('Схема без ПС'!$B$2:$B$1000,Фатеж!A7,'Схема без ПС'!$T$2:$T$1000) -> 26319.106
A8: bd6f6280-8b44-46ab-9d9d-a07f4ad88d6a | B8: =VLOOKUP(A8,'Схема с ПС'!$B$2:$C$1000,2,0) -> Сельское поселение Андреевский сельсовет | C8: =SUMIF('Схема с ПС'!$B$2:$B$1000,Фатеж!A8,'Схема с ПС'!$N$2:$N$1000) -> 89.15 | D8: =SUMIF('Схема с ПС'!$B$2:$B$1000,Фатеж!A8,'Схема с ПС'!$T$2:$T$1000) -> 2110.1823 | E8: =SUMIF('Схема с ПС'!$B$2:$B$1000,Фатеж!A8,'Схема с ПС'!$AJ$2:$AJ$1000) -> 6490.7606 | G8: =SUMIF('Схема без ПС'!$B$2:$B$1000,Фатеж!A8,'Схема без ПС'!$T$2:$T$1000) -> 6883.3996
A9: cb0865c0-bf35-4e1d-8d86-ff461ddffe63 | B9: =VLOOKUP(A9,'Схема с ПС'!$B$2:$C$1000,2,0) -> Сельское поселение Большеанненковский сельсовет | C9: =SUMIF('Схема с ПС'!$B$2:$B$1000,Фатеж!A9,'Схема с ПС'!$N$2:$N$1000) -> 157.99 | D9: =SUMIF('Схема с ПС'!$B$2:$B$1000,Фатеж!A9,'Схема с ПС'!$T$2:$T$1000) -> 2848.9863 | E9: =SUMIF('Схема с ПС'!$B$2:$B$1000,Фатеж!A9,'Схема с ПС'!$AJ$2:$AJ$1000) -> 11502.807 | G9: =SUMIF('Схема без ПС'!$B$2:$B$1000,Фатеж!A9,'Схема без ПС'!$T$2:$T$1000) -> 14275.172
A10: 52562b1b-40ef-483f-aa73-4b80614cc403 | B10: =VLOOKUP(A10,'Схема с ПС'!$B$2:$C$1000,2,0) -> Сельское поселение Первомайский сельсовет | C10: =SUMIF('Схема с ПС'!$B$2:$B$1000,Фатеж!A10,'Схема с ПС'!$N$2:$N$1000) -> 170.58 | D10: =SUMIF('Схема с ПС'!$B$2:$B$1000,Фатеж!A10,'Схема с ПС'!$T$2:$T$1000) -> 11879.173 | E10: =SUMIF('Схема с ПС'!$B$2:$B$1000,Фатеж!A10,'Схема с ПС'!$AJ$2:$AJ$1000) -> 12419.45 | G10: =SUMIF('Схема без ПС'!$B$2:$B$1000,Фатеж!A10,'Схема без ПС'!$T$2:$T$1000) -> 24178.754
A11: 47309437-fbc2-45c1-ab6f-6ee0a8e31209 | B11: =VLOOKUP(A11,'Схема с ПС'!$B$2:$C$1000,2,0) -> Городское поселение поселок Золотухино | C11: =SUMIF('Схема с ПС'!$B$2:$B$1000,Фатеж!A11,'Схема с ПС'!$N$2:$N$1000) -> 1114.15 | D11: =SUMIF('Схема с ПС'!$B$2:$B$1000,Фатеж!A11,'Схема с ПС'!$T$2:$T$1000) -> 49207.222 | E11: =SUMIF('Схема с ПС'!$B$2:$B$1000,Фатеж!A11,'Схема с ПС'!$AJ$2:$AJ$1000) -> 81118.126 | G11: =SUMIF('Схема без ПС'!$B$2:$B$1000,Фатеж!A11,'Схема без ПС'!$T$2:$T$1000) -> 99626.13
A12: 2bdc9756-f33d-4a61-ba7d-fd3cb9ac1db8 | B12: =VLOOKUP(A12,'Схема с ПС'!$B$2:$C$1000,2,0) -> Сельское поселение Машкинский сельсовет | C12: =SUMIF('Схема с ПС'!$B$2:$B$1000,Фатеж!A12,'Схема с ПС'!$N$2:$N$1000) -> 78.71 | D12: =SUMIF('Схема с ПС'!$B$2:$B$1000,Фатеж!A12,'Схема с ПС'!$T$2:$T$1000) -> 5045.9745 | E12: =SUMIF('Схема с ПС'!$B$2:$B$1000,Фатеж!A12,'Схема с ПС'!$AJ$2:$AJ$1000) -> 5730.6536 | G12: =SUMIF('Схема без ПС'!$B$2:$B$1000,Фатеж!A12,'Схема без ПС'!$T$2:$T$1000) -> 8341.0429
A13: 66b9cbfd-a9f3-4e26-b075-620626d25344 | B13: =VLOOKUP(A13,'Схема с ПС'!$B$2:$C$1000,2,0) -> Сельское поселение 1-й Поныровский сельсовет | C13: =SUMIF('Схема с ПС'!$B$2:$B$1000,Фатеж!A13,'Схема с ПС'!$N$2:$N$1000) -> 181.75 | D13: =SUMIF('Схема с ПС'!$B$2:$B$1000,Фатеж!A13,'Схема с ПС'!$T$2:$T$1000) -> 10739.632 | E13: =SUMIF('Схема с ПС'!$B$2:$B$1000,Фатеж!A13,'Схема с ПС'!$AJ$2:$AJ$1000) -> 13232.706 | G13: =SUMIF('Схема без ПС'!$B$2:$B$1000,Фатеж!A13,'Схема без ПС'!$T$2:$T$1000) -> 24759.469
A14: 7ea3c7b8-fb2a-4e3c-a690-f7c9fdd48c6e | B14: =VLOOKUP(A14,'Схема с ПС'!$B$2:$C$1000,2,0) -> Сельское поселение Миленинский сельсовет | C14: =SUMIF('Схема с ПС'!$B$2:$B$1000,Фатеж!A14,'Схема с ПС'!$N$2:$N$1000) -> 241.78 | D14: =SUMIF('Схема с ПС'!$B$2:$B$1000,Фатеж!A14,'Схема с ПС'!$T$2:$T$1000) -> 1333.6102 | E14: =SUMIF('Схема с ПС'!$B$2:$B$1000,Фатеж!A14,'Схема с ПС'!$AJ$2:$AJ$1000) -> 17603.321 | G14: =SUMIF('Схема без ПС'!$B$2:$B$1000,Фатеж!A14,'Схема без ПС'!$T$2:$T$1000) -> 18819.674
... A46: e6c69d37-b068-4ec0-8b19-7defbca0a6f8 | B46: =VLOOKUP(A46,'Схема с ПС'!$B$2:$C$1000,2,0) -> Сельское поселение Ольховатский сельсовет | C46: =SUMIF('Схема с ПС'!$B$2:$B$1000,Фатеж!A46,'Схема с ПС'!$N$2:$N$1000) -> 204.09 | D46: =SUMIF('Схема с ПС'!$B$2:$B$1000,Фатеж!A46,'Схема с ПС'!$T$2:$T$1000) -> 9285.6961 | E46: =SUMIF('Схема с ПС'!$B$2:$B$1000,Фатеж!A46,'Схема с ПС'!$AJ$2:$AJ$1000) -> 14859.219 | G46: =SUMIF('Схема без ПС'!$B$2:$B$1000,Фатеж!A46,'Схема без ПС'!$T$2:$T$1000) -> 24001.498
C47: =SUM(C3:C46) -> 16458.47 | D47: =SUM(D3:D46) -> 690806.73 | E47: =SUM(E3:E46) -> 1198294.9 | G47: =SUM(G3:G46) -> 1744335.4

Sheet Обоянь
D1: с перегрузкой | G1: без перегрузки
A2: ID (Источник) | B2: Наименование источника | C2: Образование отходов | D2: ТКМ 1 звено | E2: ТКМ 2 звено | G2: ТКМ 1 звено
A3: b9f7cac4-97b8-47c3-ae86-4fd9f0a4def9 | B3: =VLOOKUP(A3,'Схема с ПС'!$B$2:$C$1000,2,0) -> Сельское поселение Рудавский сельсовет | C3: =SUMIF('Схема с ПС'!$B$2:$B$1000,A3,'Схема с ПС'!$N$2:$N$1000) -> 654.78 | D3: =SUMIF('Схема с ПС'!$B$2:$B$1000,A3,'Схема с ПС'!$T$2:$T$1000) -> 6557.2129 | E3: =SUMIF('Схема с ПС'!$B$2:$B$1000,A3,'Схема с ПС'!$AJ$2:$AJ$1000) -> 50807.875 | G3: =SUMIF('Схема без ПС'!$B$2:$B$1000,A3,'Схема без ПС'!$T$2:$T$1000) -> 60381.212
A4: 0a13218e-b570-436f-901c-9e325f810d7f | B4: =VLOOKUP(A4,'Схема с ПС'!$B$2:$C$1000,2,0) -> Сельское поселение Зоринский сельсовет | C4: =SUMIF('Схема с ПС'!$B$2:$B$1000,A4,'Схема с ПС'!$N$2:$N$1000) -> 764.19 | D4: =SUMIF('Схема с ПС'!$B$2:$B$1000,A4,'Схема с ПС'!$T$2:$T$1000) -> 10394.46 | E4: =SUMIF('Схема с ПС'!$B$2:$B$1000,A4,'Схема с ПС'!$AJ$2:$AJ$1000) -> 59297.581 | G4: =SUMIF('Схема без ПС'!$B$2:$B$1000,A4,'Схема без ПС'!$T$2:$T$1000) -> 73212.143
A5: 4bd0cd02-3bde-4c97-87b4-dd7f625eb486 | B5: =VLOOKUP(A5,'Схема с ПС'!$B$2:$C$1000,2,0) -> Сельское поселение Шумаковский сельсовет Солнцевского района | C5: =SUMIF('Схема с ПС'!$B$2:$B$1000,A5,'Схема с ПС'!$N$2:$N$1000) -> 381.57 | D5: =SUMIF('Схема с ПС'!$B$2:$B$1000,A5,'Схема с ПС'!$T$2:$T$1000) -> 22608.699 | E5: =SUMIF('Схема с ПС'!$B$2:$B$1000,A5,'Схема с ПС'!$AJ$2:$AJ$1000) -> 29608.053 | G5: =SUMIF('Схема без ПС'!$B$2:$B$1000,A5,'Схема без ПС'!$T$2:$T$1000) -> 37504.931
A6: 346f9453-5c9e-4845-a97c-8097c0e23348 | B6: =VLOOKUP(A6,'Схема с ПС'!$B$2:$C$1000,2,0) -> Городское поселение поселок Солнцево | C6: =SUMIF('Схема с ПС'!$B$2:$B$1000,A6,'Схема с ПС'!$N$2:$N$1000) -> 912.01 | D6: =SUMIF('Схема с ПС'!$B$2:$B$1000,A6,'Схема с ПС'!$T$2:$T$1000) -> 43401.581 | E6: =SUMIF('Схема с ПС'!$B$2:$B$1000,A6,'Схема с ПС'!$AJ$2:$AJ$1000) -> 70767.724 | G6: =SUMIF('Схема без ПС'!$B$2:$B$1000,A6,'Схема без ПС'!$T$2:$T$1000) -> 87874.444
A7: 154912ef-0169-45f0-add1-70df38b7265e | B7: =VLOOKUP(A7,'Схема с ПС'!$B$2:$C$1000,2,0) -> Сельское поселение Каменский сельсовет | C7: =SUMIF('Схема с ПС'!$B$2:$B$1000,A7,'Схема с ПС'!$N$2:$N$1000) -> 251.19 | D7: =SUMIF('Схема с ПС'!$B$2:$B$1000,A7,'Схема с ПС'!$T$2:$T$1000) -> 4137.3415 | E7: =SUMIF('Схема с ПС'!$B$2:$B$1000,A7,'Схема с ПС'!$AJ$2:$AJ$1000) -> 19491.173 | G7: =SUMIF('Схема без ПС'!$B$2:$B$1000,A7,'Схема без ПС'!$T$2:$T$1000) -> 22031.874
A8: 5680db39-5c71-484d-b0d2-41f1cc6cdd68 | B8: =VLOOKUP(A8,'Схема с ПС'!$B$2:$C$1000,2,0) -> Сельское поселение Афанасьевский сельсовет | C8: =SUMIF('Схема с ПС'!$B$2:$B$1000,A8,'Схема с ПС'!$N$2:$N$1000) -> 790.83 | D8: =SUMIF('Схема с ПС'!$B$2:$B$1000,A8,'Схема с ПС'!$T$2:$T$1000) -> 6272.2467 | E8: =SUMIF('Схема с ПС'!$B$2:$B$1000,A8,'Схема с ПС'!$AJ$2:$AJ$1000) -> 61364.721 | G8: =SUMIF('Схема без ПС'!$B$2:$B$1000,A8,'Схема без ПС'!$T$2:$T$1000) -> 66121.754
A9: 11b817e4-5c64-4ddd-ad09-d22a2c7e509a | B9: =VLOOKUP(A9,'Схема с ПС'!$B$2:$C$1000,2,0) -> Сельское поселение Пушкарский сельсовет | C9: =SUMIF('Схема с ПС'!$B$2:$B$1000,A9,'Схема с ПС'!$N$2:$N$1000) -> 285.04 | D9: =SUMIF('Схема с ПС'!$B$2:$B$1000,A9,'Схема с ПС'!$T$2:$T$1000) -> 1773.1558 | E9: =SUMIF('Схема с ПС'!$B$2:$B$1000,A9,'Схема с ПС'!$AJ$2:$AJ$1000) -> 22117.775 | G9: =SUMIF('Схема без ПС'!$B$2:$B$1000,A9,'Схема без ПС'!$T$2:$T$1000) -> 23259.932
A10: 73efa5db-2907-462f-b1c5-c33b6a9dfee1 | B10: =VLOOKUP(A10,'Схема с ПС'!$B$2:$C$1000,2,0) -> Сельское поселение Рыбино-Будский сельсовет | C10: =SUMIF('Схема с ПС'!$B$2:$B$1000,A10,'Схема с ПС'!$N$2:$N$1000) -> 352.88 | D10: =SUMIF('Схема с ПС'!$B$2:$B$1000,A10,'Схема с ПС'!$T$2:$T$1000) -> 7744.2254 | E10: =SUMIF('Схема с ПС'!$B$2:$B$1000,A10,'Схема с ПС'!$AJ$2:$AJ$1000) -> 27381.843 | G10: =SUMIF('Схема без ПС'!$B$2:$B$1000,A10,'Схема без ПС'!$T$2:$T$1000) -> 31963.06
A11: 33f4daa7-bd76-4747-9a86-14d5e95283c2 | B11: =VLOOKUP(A11,'Схема с ПС'!$B$2:$C$1000,2,0) -> Сельское поселение Бабинский сельсовет | C11: =SUMIF('Схема с ПС'!$B$2:$B$1000,A11,'Схема с ПС'!$N$2:$N$1000) -> 79.91 | D11: =SUMIF('Схема с ПС'!$B$2:$B$1000,A11,'Схема с ПС'!$T$2:$T$1000) -> 3561.5143 | E11: =SUMIF('Схема с ПС'!$B$2:$B$1000,A11,'Схема с ПС'!$AJ$2:$AJ$1000) -> 6200.6434 | G11: =SUMIF('Схема без ПС'!$B$2:$B$1000,A11,'Схема без ПС'!$T$2:$T$1000) -> 7878.2046
A12: 30145d4c-4aee-4146-8d1d-29f96698d301 | B12: =VLOOKUP(A12,'Схема с ПС'!$B$2:$C$1000,2,0) -> Сельское поселение Горяйновский сельсовет | C12: =SUMIF('Схема с ПС'!$B$2:$B$1000,A12,'Схема с ПС'!$N$2:$N$1000) -> 223.13 | D12: =SUMIF('Схема с ПС'!$B$2:$B$1000,A12,'Схема с ПС'!$T$2:$T$1000) -> 2465.3792 | E12: =SUMIF('Схема с ПС'!$B$2:$B$1000,A12,'Схема с ПС'!$AJ$2:$AJ$1000) -> 17313.848 | G12: =SUMIF('Схема без ПС'!$B$2:$B$1000,A12,'Схема без ПС'!$T$2:$T$1000) -> 19334.73
A13: 58168741-e3bb-4e76-aec3-0af0739bfc06 | B13: =VLOOKUP(A13,'Схема с ПС'!$B$2:$C$1000,2,0) -> Сельское поселение Усланский сельсовет | C13: =SUMIF('Схема с ПС'!$B$2:$B$1000,A13,'Схема с ПС'!$N$2:$N$1000) -> 566.84 | D13: =SUMIF('Схема с ПС'!$B$2:$B$1000,A13,'Схема с ПС'!$T$2:$T$1000) -> 4561.5543 | E13: =SUMIF('Схема с ПС'!$B$2:$B$1000,A13,'Схема с ПС'!$AJ$2:$AJ$1000) -> 43984.141 | G13: =SUMIF('Схема без ПС'!$B$2:$B$1000,A13,'Схема без ПС'!$T$2:$T$1000) -> 48441.976
A14: b1236efc-e87e-4bea-a73b-4608f73a3d4d | B14: =VLOOKUP(A14,'Схема с ПС'!$B$2:$C$1000,2,0) -> Сельское поселение Бобрышевский сельсовет | C14: =SUMIF('Схема с ПС'!$B$2:$B$1000,A14,'Схема с ПС'!$N$2:$N$1000) -> 316.22 | D14: =SUMIF('Схема с ПС'!$B$2:$B$1000,A14,'Схема с ПС'!$T$2:$T$1000) -> 6784.4605 | E14: =SUMIF('Схема с ПС'!$B$2:$B$1000,A14,'Схема с ПС'!$AJ$2:$AJ$1000) -> 24537.198 | G14: =SUMIF('Схема без ПС'!$B$2:$B$1000,A14,'Схема без ПС'!$T$2:$T$1000) -> 30524.865
... A20: 37c779d5-e56e-4b00-ae01-db33f10f87cd | B20: =VLOOKUP(A20,'Схема с ПС'!$B$2:$C$1000,2,0) -> Городское поселение город Обоянь | C20: =SUMIF('Схема с ПС'!$B$2:$B$1000,A20,'Схема с ПС'!$N$2:$N$1000) -> 3342.93 | D20: =SUMIF('Схема с ПС'!$B$2:$B$1000,A20,'Схема с ПС'!$T$2:$T$1000) -> 13027.576 | E20: =SUMIF('Схема с ПС'!$B$2:$B$1000,A20,'Схема с ПС'!$AJ$2:$AJ$1000) -> 259395.78 | G20: =SUMIF('Схема без ПС'!$B$2:$B$1000,A20,'Схема без ПС'!$T$2:$T$1000) -> 264000.04
C47: =SUM(C3:C46) -> 10090.92 | D47: =SUM(D3:D46) -> 172572.8 | E47: =SUM(E3:E46) -> 783008.34 | G47: =SUM(G3:G46) -> 885630.44

Sheet Медвенский
D1: с перегрузкой | G1: без перегрузки
A2: ID (Источник) | B2: Наименование источника | C2: Образование отходов | D2: ТКМ 1 звено | E2: ТКМ 2 звено | G2: ТКМ 1 звено
A3: e34c5770-2596-4bb2-8021-9532032d178e | B3: =VLOOKUP(A3,'Схема с ПС'!$B$2:$C$1000,2,0) -> Сельское поселение Паникинский сельсовет | C3: =SUMIF('Схема с ПС'!$B$2:$B$1000,A3,'Схема с ПС'!$N$2:$N$1000) -> 301.93 | D3: =SUMIF('Схема с ПС'!$B$2:$B$1000,A3,'Схема с ПС'!$T$2:$T$1000) -> 3223.6278 | E3: =SUMIF('Схема с ПС'!$B$2:$B$1000,A3,'Схема с ПС'!$AJ$2:$AJ$1000) -> 18467.529 | G3: =SUMIF('Схема без ПС'!$B$2:$B$1000,A3,'Схема без ПС'!$T$2:$T$1000) -> 20698.897
A4: 0819edf3-a80e-4975-8af0-177679b132c3 | B4: =VLOOKUP(A4,'Схема с ПС'!$B$2:$C$1000,2,0) -> Сельское поселение Вышнереутчанский сельсовет | C4: =SUMIF('Схема с ПС'!$B$2:$B$1000,A4,'Схема с ПС'!$N$2:$N$1000) -> 395.79 | D4: =SUMIF('Схема с ПС'!$B$2:$B$1000,A4,'Схема с ПС'!$T$2:$T$1000) -> 7715.6108 | E4: =SUMIF('Схема с ПС'!$B$2:$B$1000,A4,'Схема с ПС'!$AJ$2:$AJ$1000) -> 24208.47 | G4: =SUMIF('Схема без ПС'!$B$2:$B$1000,A4,'Схема без ПС'!$T$2:$T$1000) -> 25963.275
A5: 84bc43dc-9626-4e52-b0d0-69d34e0f8cfd | B5: =VLOOKUP(A5,'Схема с ПС'!$B$2:$C$1000,2,0) -> Сельское поселение Кривцовский сельсовет | C5: =SUMIF('Схема с ПС'!$B$2:$B$1000,A5,'Схема с ПС'!$N$2:$N$1000) -> 68.67 | D5: =SUMIF('Схема с ПС'!$B$2:$B$1000,A5,'Схема с ПС'!$T$2:$T$1000) -> 2152.8354 | E5: =SUMIF('Схема с ПС'!$B$2:$B$1000,A5,'Схема с ПС'!$AJ$2:$AJ$1000) -> 4200.1962 | G5: =SUMIF('Схема без ПС'!$B$2:$B$1000,A5,'Схема без ПС'!$T$2:$T$1000) -> 5318.8252
A6: 0161b15d-3035-4908-a113-dbe98744aa4f | B6: =VLOOKUP(A6,'Схема с ПС'!$B$2:$C$1000,2,0) -> Сельское поселение Башкатовский сельсовет | C6: =SUMIF('Схема с ПС'!$B$2:$B$1000,A6,'Схема с ПС'!$N$2:$N$1000) -> 154.38 | D6: =SUMIF('Схема с ПС'!$B$2:$B$1000,A6,'Схема с ПС'!$T$2:$T$1000) -> 5067.0048 | E6: =SUMIF('Схема с ПС'!$B$2:$B$1000,A6,'Схема с ПС'!$AJ$2:$AJ$1000) -> 9442.6429 | G6: =SUMIF('Схема без ПС'!$B$2:$B$1000,A6,'Схема без ПС'!$T$2:$T$1000) -> 12184.604
A7: 385e8b66-4cea-40b2-b516-6c25fe6dc9d9 | B7: =VLOOKUP(A7,'Схема с ПС'!$B$2:$C$1000,2,0) -> Сельское поселение Китаевский сельсовет | C7: =SUMIF('Схема с ПС'!$B$2:$B$1000,A7,'Схема с ПС'!$N$2:$N$1000) -> 347.14 | D7: =SUMIF('Схема с ПС'!$B$2:$B$1000,A7,'Схема с ПС'!$T$2:$T$1000) -> 10493.169 | E7: =SUMIF('Схема с ПС'!$B$2:$B$1000,A7,'Схема с ПС'!$AJ$2:$AJ$1000) -> 21232.796 | G7: =SUMIF('Схема без ПС'!$B$2:$B$1000,A7,'Схема без ПС'!$T$2:$T$1000) -> 24240.988
A8: 98e1df4d-5ac1-41cd-9489-a158b2a4b99a | B8: =VLOOKUP(A8,'Схема с ПС'!$B$2:$C$1000,2,0) -> Городское поселение поселок Медвенка | C8: =SUMIF('Схема с ПС'!$B$2:$B$1000,A8,'Схема с ПС'!$N$2:$N$1000) -> 1137.93 | D8: =SUMIF('Схема с ПС'!$B$2:$B$1000,A8,'Схема с ПС'!$T$2:$T$1000) -> 12319.092 | E8: =SUMIF('Схема с ПС'!$B$2:$B$1000,A8,'Схема с ПС'!$AJ$2:$AJ$1000) -> 69601.416 | G8: =SUMIF('Схема без ПС'!$B$2:$B$1000,A8,'Схема без ПС'!$T$2:$T$1000) -> 66883.26
A9: ccd2c18a-f294-4902-a7a4-ea81c30787a4 | B9: =VLOOKUP(A9,'Схема с ПС'!$B$2:$C$1000,2,0) -> Сельское поселение Быкановский сельсовет | C9: =SUMIF('Схема с ПС'!$B$2:$B$1000,A9,'Схема с ПС'!$N$2:$N$1000) -> 173.86 | D9: =SUMIF('Схема с ПС'!$B$2:$B$1000,A9,'Схема с ПС'!$T$2:$T$1000) -> 3353.4797 | E9: =SUMIF('Схема с ПС'!$B$2:$B$1000,A9,'Схема с ПС'!$AJ$2:$AJ$1000) -> 10634.136 | G9: =SUMIF('Схема без ПС'!$B$2:$B$1000,A9,'Схема без ПС'!$T$2:$T$1000) -> 12903.008
A10: 0da4deb4-71c3-44b6-90f9-3ba66e1b6cc4 | B10: =VLOOKUP(A10,'Схема с ПС'!$B$2:$C$1000,2,0) -> Сельское поселение Котельниковский сельсовет | C10: =SUMIF('Схема с ПС'!$B$2:$B$1000,A10,'Схема с ПС'!$N$2:$N$1000) -> 433.65 | D10: =SUMIF('Схема с ПС'!$B$2:$B$1000,A10,'Схема с ПС'!$T$2:$T$1000) -> 10419.245 | E10: =SUMIF('Схема с ПС'!$B$2:$B$1000,A10,'Схема с ПС'!$AJ$2:$AJ$1000) -> 26524.175 | G10: =SUMIF('Схема без ПС'!$B$2:$B$1000,A10,'Схема без ПС'!$T$2:$T$1000) -> 34238.139
A11: 80c53f4e-31c2-4bb6-ab9c-c60211a58607 | B11: =VLOOKUP(A11,'Схема с ПС'!$B$2:$C$1000,2,0) -> Сельское поселение Чермошнянский сельсовет | C11: =SUMIF('Схема с ПС'!$B$2:$B$1000,A11,'Схема с ПС'!$N$2:$N$1000) -> 373.84 | D11: =SUMIF('Схема с ПС'!$B$2:$B$1000,A11,'Схема с ПС'!$T$2:$T$1000) -> 9023.6074 | E11: =SUMIF('Схема с ПС'!$B$2:$B$1000,A11,'Схема с ПС'!$AJ$2:$AJ$1000) -> 22865.9 | G11: =SUMIF('Схема без ПС'!$B$2:$B$1000,A11,'Схема без ПС'!$T$2:$T$1000) -> 23828.829
A12: 7d34b9f0-2ff9-44a7-8f0c-d26bd2cd6d54 | B12: =VLOOKUP(A12,'Схема с ПС'!$B$2:$C$1000,2,0) -> Сельское поселение Нижнереутчанский сельсовет | C12: =SUMIF('Схема с ПС'!$B$2:$B$1000,A12,'Схема с ПС'!$N$2:$N$1000) -> 317.79 | D12: =SUMIF('Схема с ПС'!$B$2:$B$1000,A12,'Схема с ПС'!$T$2:$T$1000) -> 5491.7103 | E12: =SUMIF('Схема с ПС'!$B$2:$B$1000,A12,'Схема с ПС'!$AJ$2:$AJ$1000) -> 19437.605 | G12: =SUMIF('Схема без ПС'!$B$2:$B$1000,A12,'Схема без ПС'!$T$2:$T$1000) -> 20143.231
A13: 8739c151-7eda-4ee6-b4dd-54d8e555a2ca | B13: =VLOOKUP(A13,'Схема с ПС'!$B$2:$C$1000,2,0) -> Сельское поселение Знаменский сельсовет Медвенский район | C13: =SUMIF('Схема с ПС'!$B$2:$B$1000,A13,'Схема с ПС'!$N$2:$N$1000) -> 86.02 | D13: =SUMIF('Схема с ПС'!$B$2:$B$1000,A13,'Схема с ПС'!$T$2:$T$1000) -> 2096.0891 | E13: =SUMIF('Схема с ПС'!$B$2:$B$1000,A13,'Схема с ПС'!$AJ$2:$AJ$1000) -> 5261.4078 | G13: =SUMIF('Схема без ПС'!$B$2:$B$1000,A13,'Схема без ПС'!$T$2:$T$1000) -> 6087.3583
B14: =VLOOKUP(A14,'Схема с ПС'!$B$2:$C$1000,2,0) -> #N/A | C14: =SUMIF('Схема с ПС'!$B$2:$B$1000,A14,'Схема с ПС'!$N$2:$N$1000) -> 0 | D14: =SUMIF('Схема с ПС'!$B$2:$B$1000,A14,'Схема с ПС'!$T$2:$T$1000) -> 0 | E14: =SUMIF('Схема с ПС'!$B$2:$B$1000,A14,'Схема с ПС'!$AJ$2:$AJ$1000) -> 0 | G14: =SUMIF('Схема без ПС'!$B$2:$B$1000,A14,'Схема без ПС'!$T$2:$T$1000) -> 0
B15: =VLOOKUP(A15,'Схема с ПС'!$B$2:$C$1000,2,0) -> #N/A | C15: =SUMIF('Схема с ПС'!$B$2:$B$1000,A15,'Схема с ПС'!$N$2:$N$1000) -> 0 | D15: =SUMIF('Схема с ПС'!$B$2:$B$1000,A15,'Схема с ПС'!$T$2:$T$1000) -> 0 | E15: =SUMIF('Схема с ПС'!$B$2:$B$1000,A15,'Схема с ПС'!$AJ$2:$AJ$1000) -> 0 | G15: =SUMIF('Схема без ПС'!$B$2:$B$1000,A15,'Схема без ПС'!$T$2:$T$1000) -> 0
B16: =VLOOKUP(A16,'Схема с ПС'!$B$2:$C$1000,2,0) -> #N/A | C16: =SUMIF('Схема с ПС'!$B$2:$B$1000,A16,'Схема с ПС'!$N$2:$N$1000) -> 0 | D16: =SUMIF('Схема с ПС'!$B$2:$B$1000,A16,'Схема с ПС'!$T$2:$T$1000) -> 0 | E16: =SUMIF('Схема с ПС'!$B$2:$B$1000,A16,'Схема с ПС'!$AJ$2:$AJ$1000) -> 0 | G16: =SUMIF('Схема без ПС'!$B$2:$B$1000,A16,'Схема без ПС'!$T$2:$T$1000) -> 0
B17: =VLOOKUP(A17,'Схема с ПС'!$B$2:$C$1000,2,0) -> #N/A | C17: =SUMIF('Схема с ПС'!$B$2:$B$1000,A17,'Схема с ПС'!$N$2:$N$1000) -> 0 | D17: =SUMIF('Схема с ПС'!$B$2:$B$1000,A17,'Схема с ПС'!$T$2:$T$1000) -> 0 | E17: =SUMIF('Схема с ПС'!$B$2:$B$1000,A17,'Схема с ПС'!$AJ$2:$AJ$1000) -> 0 | G17: =SUMIF('Схема без ПС'!$B$2:$B$1000,A17,'Схема без ПС'!$T$2:$T$1000) -> 0
B18: =VLOOKUP(A18,'Схема с ПС'!$B$2:$C$1000,2,0) -> #N/A | C18: =SUMIF('Схема с ПС'!$B$2:$B$1000,A18,'Схема с ПС'!$N$2:$N$1000) -> 0 | D18: =SUMIF('Схема с ПС'!$B$2:$B$1000,A18,'Схема с ПС'!$T$2:$T$1000) -> 0 | E18: =SUMIF('Схема с ПС'!$B$2:$B$1000,A18,'Схема с ПС'!$AJ$2:$AJ$1000) -> 0 | G18: =SUMIF('Схема без ПС'!$B$2:$B$1000,A18,'Схема без ПС'!$T$2:$T$1000) -> 0
B19: =VLOOKUP(A19,'Схема с ПС'!$B$2:$C$1000,2,0) -> #N/A | C19: =SUMIF('Схема с ПС'!$B$2:$B$1000,A19,'Схема с ПС'!$N$2:$N$1000) -> 0 | D19: =SUMIF('Схема с ПС'!$B$2:$B$1000,A19,'Схема с ПС'!$T$2:$T$1000) -> 0 | E19: =SUMIF('Схема с ПС'!$B$2:$B$1000,A19,'Схема с ПС'!$AJ$2:$AJ$1000) -> 0 | G19: =SUMIF('Схема без ПС'!$B$2:$B$1000,A19,'Схема без ПС'!$T$2:$T$1000) -> 0
B20: =VLOOKUP(A20,'Схема с ПС'!$B$2:$C$1000,2,0) -> #N/A | C20: =SUMIF('Схема с ПС'!$B$2:$B$1000,A20,'Схема с ПС'!$N$2:$N$1000) -> 0 | D20: =SUMIF('Схема с ПС'!$B$2:$B$1000,A20,'Схема с ПС'!$T$2:$T$1000) -> 0 | E20: =SUMIF('Схема с ПС'!$B$2:$B$1000,A20,'Схема с ПС'!$AJ$2:$AJ$1000) -> 0 | G20: =SUMIF('Схема без ПС'!$B$2:$B$1000,A20,'Схема без ПС'!$T$2:$T$1000) -> 0
B21: =VLOOKUP(A21,'Схема с ПС'!$B$2:$C$1000,2,0) -> #N/A | C21: =SUMIF('Схема с ПС'!$B$2:$B$1000,A21,'Схема с ПС'!$N$2:$N$1000) -> 0 | D21: =SUMIF('Схема с ПС'!$B$2:$B$1000,A21,'Схема с ПС'!$T$2:$T$1000) -> 0 | E21: =SUMIF('Схема с ПС'!$B$2:$B$1000,A21,'Схема с ПС'!$AJ$2:$AJ$1000) -> 0 | G21: =SUMIF('Схема без ПС'!$B$2:$B$1000,A21,'Схема без ПС'!$T$2:$T$1000) -> 0
B22: =VLOOKUP(A22,'Схема с ПС'!$B$2:$C$1000,2,0) -> #N/A | C22: =SUMIF('Схема с ПС'!$B$2:$B$1000,A22,'Схема с ПС'!$N$2:$N$1000) -> 0 | D22: =SUMIF('Схема с ПС'!$B$2:$B$1000,A22,'Схема с ПС'!$T$2:$T$1000) -> 0 | E22: =SUMIF('Схема с ПС'!$B$2:$B$1000,A22,'Схема с ПС'!$AJ$2:$AJ$1000) -> 0 | G22: =SUMIF('Схема без ПС'!$B$2:$B$1000,A22,'Схема без ПС'!$T$2:$T$1000) -> 0
B23: =VLOOKUP(A23,'Схема с ПС'!$B$2:$C$1000,2,0) -> #N/A | C23: =SUMIF('Схема с ПС'!$B$2:$B$1000,A23,'Схема с ПС'!$N$2:$N$1000) -> 0 | D23: =SUMIF('Схема с ПС'!$B$2:$B$1000,A23,'Схема с ПС'!$T$2:$T$1000) -> 0 | E23: =SUMIF('Схема с ПС'!$B$2:$B$1000,A23,'Схема с ПС'!$AJ$2:$AJ$1000) -> 0 | G23: =SUMIF('Схема без ПС'!$B$2:$B$1000,A23,'Схема без ПС'!$T$2:$T$1000) -> 0
B24: =VLOOKUP(A24,'Схема с ПС'!$B$2:$C$1000,2,0) -> #N/A | C24: =SUMIF('Схема с ПС'!$B$2:$B$1000,A24,'Схема с ПС'!$N$2:$N$1000) -> 0 | D24: =SUMIF('Схема с ПС'!$B$2:$B$1000,A24,'Схема с ПС'!$T$2:$T$1000) -> 0 | E24: =SUMIF('Схема с ПС'!$B$2:$B$1000,A24,'Схема с ПС'!$AJ$2:$AJ$1000) -> 0 | G24: =SUMIF('Схема без ПС'!$B$2:$B$1000,A24,'Схема без ПС'!$T$2:$T$1000) -> 0
B25: =VLOOKUP(A25,'Схема с ПС'!$B$2:$C$1000,2,0) -> #N/A | C25: =SUMIF('Схема с ПС'!$B$2:$B$1000,A25,'Схема с ПС'!$N$2:$N$1000) -> 0 | D25: =SUMIF('Схема с ПС'!$B$2:$B$1000,A25,'Схема с ПС'!$T$2:$T$1000) -> 0 | E25: =SUMIF('Схема с ПС'!$B$2:$B$1000,A25,'Схема с ПС'!$AJ$2:$AJ$1000) -> 0 | G25: =SUMIF('Схема без ПС'!$B$2:$B$1000,A25,'Схема без ПС'!$T$2:$T$1000) -> 0
... B46: =VLOOKUP(A46,'Схема с ПС'!$B$2:$C$1000,2,0) -> #N/A | C46: =SUMIF('Схема с ПС'!$B$2:$B$1000,A46,'Схема с ПС'!$N$2:$N$1000) -> 0 | D46: =SUMIF('Схема с ПС'!$B$2:$B$1000,A46,'Схема с ПС'!$T$2:$T$1000) -> 0 | E46: =SUMIF('Схема с ПС'!$B$2:$B$1000,A46,'Схема с ПС'!$AJ$2:$AJ$1000) -> 0 | G46: =SUMIF('Схема без ПС'!$B$2:$B$1000,A46,'Схема без ПС'!$T$2:$T$1000) -> 0
C47: =SUM(C3:C46) -> 3791 | D47: =SUM(D3:D46) -> 71355.471 | E47: =SUM(E3:E46) -> 231876.27 | G47: =SUM(G3:G46) -> 252490.41

Sheet Хомутовка
D1: с перегрузкой | G1: без перегрузки
A2: ID (Источник) | B2: Наименование источника | C2: Образование отходов | D2: ТКМ 1 звено | E2: ТКМ 2 звено | G2: ТКМ 1 звено
A3: 818d5d31-1d42-4390-bf2d-4e0759e36be7 | B3: =VLOOKUP(A3,'Схема с ПС'!$B$2:$C$1000,2,0) -> Сельское поселение Поповкинский сельсовет | C3: =SUMIF('Схема с ПС'!$B$2:$B$1000,A3,'Схема с ПС'!$N$2:$N$1000) -> 200.21 | D3: =SUMIF('Схема с ПС'!$B$2:$B$1000,A3,'Схема с ПС'!$T$2:$T$1000) -> 6898.2067 | E3: =SUMIF('Схема с ПС'!$B$2:$B$1000,A3,'Схема с ПС'!$AJ$2:$AJ$1000) -> 37159.664 | G3: =SUMIF('Схема без ПС'!$B$2:$B$1000,A3,'Схема без ПС'!$T$2:$T$1000) -> 33683.587
A4: e1fd0152-f0a7-4c76-8778-7b8436ae54c0 | B4: =VLOOKUP(A4,'Схема с ПС'!$B$2:$C$1000,2,0) -> Сельское поселение Сальновский сельсовет | C4: =SUMIF('Схема с ПС'!$B$2:$B$1000,A4,'Схема с ПС'!$N$2:$N$1000) -> 180.1 | D4: =SUMIF('Схема с ПС'!$B$2:$B$1000,A4,'Схема с ПС'!$T$2:$T$1000) -> 11795.207 | E4: =SUMIF('Схема с ПС'!$B$2:$B$1000,A4,'Схема с ПС'!$AJ$2:$AJ$1000) -> 33427.179 | G4: =SUMIF('Схема без ПС'!$B$2:$B$1000,A4,'Схема без ПС'!$T$2:$T$1000) -> 44766.794
A5: b12761ee-a874-4dbe-953c-862232e57626 | B5: =VLOOKUP(A5,'Схема с ПС'!$B$2:$C$1000,2,0) -> Сельское поселение Романовский сельсовет | C5: =SUMIF('Схема с ПС'!$B$2:$B$1000,A5,'Схема с ПС'!$N$2:$N$1000) -> 107.58 | D5: =SUMIF('Схема с ПС'!$B$2:$B$1000,A5,'Схема с ПС'!$T$2:$T$1000) -> 1158.2246 | E5: =SUMIF('Схема с ПС'!$B$2:$B$1000,A5,'Схема с ПС'!$AJ$2:$AJ$1000) -> 19967.218 | G5: =SUMIF('Схема без ПС'!$B$2:$B$1000,A5,'Схема без ПС'!$T$2:$T$1000) -> 19653.407
A6: de1314f6-648f-43c7-8c20-c6c611338c05 | B6: =VLOOKUP(A6,'Схема с ПС'!$B$2:$C$1000,2,0) -> Сельское поселение Дубовицкий сельсовет | C6: =SUMIF('Схема с ПС'!$B$2:$B$1000,A6,'Схема с ПС'!$N$2:$N$1000) -> 71.45 | D6: =SUMIF('Схема с ПС'!$B$2:$B$1000,A6,'Схема с ПС'!$T$2:$T$1000) -> 257.28597 | E6: =SUMIF('Схема с ПС'!$B$2:$B$1000,A6,'Схема с ПС'!$AJ$2:$AJ$1000) -> 13261.365 | G6: =SUMIF('Схема без ПС'!$B$2:$B$1000,A6,'Схема без ПС'!$T$2:$T$1000) -> 13337.907
A7: 57afc386-8e1d-4560-9956-0b10fe27aeaa | B7: =VLOOKUP(A7,'Схема с ПС'!$B$2:$C$1000,2,0) -> Сельское поселение Гламаздинский сельсовет | C7: =SUMIF('Схема с ПС'!$B$2:$B$1000,A7,'Схема с ПС'!$N$2:$N$1000) -> 114.27 | D7: =SUMIF('Схема с ПС'!$B$2:$B$1000,A7,'Схема с ПС'!$T$2:$T$1000) -> 1881.2879 | E7: =SUMIF('Схема с ПС'!$B$2:$B$1000,A7,'Схема с ПС'!$AJ$2:$AJ$1000) -> 21208.905 | G7: =SUMIF('Схема без ПС'!$B$2:$B$1000,A7,'Схема без ПС'!$T$2:$T$1000) -> 21760.499
A8: c168a2db-df56-4853-8fb3-02b2b356ffdf | B8: =VLOOKUP(A8,'Схема с ПС'!$B$2:$C$1000,2,0) -> Сельское поселение Калиновский сельсовет | C8: =SUMIF('Схема с ПС'!$B$2:$B$1000,A8,'Схема с ПС'!$N$2:$N$1000) -> 354.85 | D8: =SUMIF('Схема с ПС'!$B$2:$B$1000,A8,'Схема с ПС'!$T$2:$T$1000) -> 2209.2414 | E8: =SUMIF('Схема с ПС'!$B$2:$B$1000,A8,'Схема с ПС'!$AJ$2:$AJ$1000) -> 65861.379 | G8: =SUMIF('Схема без ПС'!$B$2:$B$1000,A8,'Схема без ПС'!$T$2:$T$1000) -> 67997.816
A9: e61c30c6-9992-4e01-ae90-295515e45f1f | B9: =VLOOKUP(A9,'Схема с ПС'!$B$2:$C$1000,2,0) -> Сельское поселение Почепский сельсовет | C9: =SUMIF('Схема с ПС'!$B$2:$B$1000,A9,'Схема с ПС'!$N$2:$N$1000) -> 152.55 | D9: =SUMIF('Схема с ПС'!$B$2:$B$1000,A9,'Схема с ПС'!$T$2:$T$1000) -> 4549.1175 | E9: =SUMIF('Схема с ПС'!$B$2:$B$1000,A9,'Схема с ПС'!$AJ$2:$AJ$1000) -> 28313.804 | G9: =SUMIF('Схема без ПС'!$B$2:$B$1000,A9,'Схема без ПС'!$T$2:$T$1000) -> 25742.321
A10: d322c22d-addf-4886-a608-538a1a4db0c6 | B10: =VLOOKUP(A10,'Схема с ПС'!$B$2:$C$1000,2,0) -> Городское поселение поселок Хомутовка | C10: =SUMIF('Схема с ПС'!$B$2:$B$1000,A10,'Схема с ПС'!$N$2:$N$1000) -> 988.56 | D10: =SUMIF('Схема с ПС'!$B$2:$B$1000,A10,'Схема с ПС'!$T$2:$T$1000) -> 3261.4777 | E10: =SUMIF('Схема с ПС'!$B$2:$B$1000,A10,'Схема с ПС'!$AJ$2:$AJ$1000) -> 183480.13 | G10: =SUMIF('Схема без ПС'!$B$2:$B$1000,A10,'Схема без ПС'!$T$2:$T$1000) -> 183870.74
A11: 16d854be-c559-4f9e-ae5a-c9bdc9eac8b3 | B11: =VLOOKUP(A11,'Схема с ПС'!$B$2:$C$1000,2,0) -> Сельское поселение Сковородневский сельсовет | C11: =SUMIF('Схема с ПС'!$B$2:$B$1000,A11,'Схема с ПС'!$N$2:$N$1000) -> 76 | D11: =SUMIF('Схема с ПС'!$B$2:$B$1000,A11,'Схема с ПС'!$T$2:$T$1000) -> 2552.0505 | E11: =SUMIF('Схема с ПС'!$B$2:$B$1000,A11,'Схема с ПС'!$AJ$2:$AJ$1000) -> 14105.861 | G11: =SUMIF('Схема без ПС'!$B$2:$B$1000,A11,'Схема без ПС'!$T$2:$T$1000) -> 13544.471
B12: =VLOOKUP(A12,'Схема с ПС'!$B$2:$C$1000,2,0) -> #N/A | C12: =SUMIF('Схема с ПС'!$B$2:$B$1000,A12,'Схема с ПС'!$N$2:$N$1000) -> 0 | D12: =SUMIF('Схема с ПС'!$B$2:$B$1000,A12,'Схема с ПС'!$T$2:$T$1000) -> 0 | E12: =SUMIF('Схема с ПС'!$B$2:$B$1000,A12,'Схема с ПС'!$AJ$2:$AJ$1000) -> 0 | G12: =SUMIF('Схема без ПС'!$B$2:$B$1000,A12,'Схема без ПС'!$T$2:$T$1000) -> 0
B13: =VLOOKUP(A13,'Схема с ПС'!$B$2:$C$1000,2,0) -> #N/A | C13: =SUMIF('Схема с ПС'!$B$2:$B$1000,A13,'Схема с ПС'!$N$2:$N$1000) -> 0 | D13: =SUMIF('Схема с ПС'!$B$2:$B$1000,A13,'Схема с ПС'!$T$2:$T$1000) -> 0 | E13: =SUMIF('Схема с ПС'!$B$2:$B$1000,A13,'Схема с ПС'!$AJ$2:$AJ$1000) -> 0 | G13: =SUMIF('Схема без ПС'!$B$2:$B$1000,A13,'Схема без ПС'!$T$2:$T$1000) -> 0
B14: =VLOOKUP(A14,'Схема с ПС'!$B$2:$C$1000,2,0) -> #N/A | C14: =SUMIF('Схема с ПС'!$B$2:$B$1000,A14,'Схема с ПС'!$N$2:$N$1000) -> 0 | D14: =SUMIF('Схема с ПС'!$B$2:$B$1000,A14,'Схема с ПС'!$T$2:$T$1000) -> 0 | E14: =SUMIF('Схема с ПС'!$B$2:$B$1000,A14,'Схема с ПС'!$AJ$2:$AJ$1000) -> 0 | G14: =SUMIF('Схема без ПС'!$B$2:$B$1000,A14,'Схема без ПС'!$T$2:$T$1000) -> 0
B15: =VLOOKUP(A15,'Схема с ПС'!$B$2:$C$1000,2,0) -> #N/A | C15: =SUMIF('Схема с ПС'!$B$2:$B$1000,A15,'Схема с ПС'!$N$2:$N$1000) -> 0 | D15: =SUMIF('Схема с ПС'!$B$2:$B$1000,A15,'Схема с ПС'!$T$2:$T$1000) -> 0 | E15: =SUMIF('Схема с ПС'!$B$2:$B$1000,A15,'Схема с ПС'!$AJ$2:$AJ$1000) -> 0 | G15: =SUMIF('Схема без ПС'!$B$2:$B$1000,A15,'Схема без ПС'!$T$2:$T$1000) -> 0
B16: =VLOOKUP(A16,'Схема с ПС'!$B$2:$C$1000,2,0) -> #N/A | C16: =SUMIF('Схема с ПС'!$B$2:$B$1000,A16,'Схема с ПС'!$N$2:$N$1000) -> 0 | D16: =SUMIF('Схема с ПС'!$B$2:$B$1000,A16,'Схема с ПС'!$T$2:$T$1000) -> 0 | E16: =SUMIF('Схема с ПС'!$B$2:$B$1000,A16,'Схема с ПС'!$AJ$2:$AJ$1000) -> 0 | G16: =SUMIF('Схема без ПС'!$B$2:$B$1000,A16,'Схема без ПС'!$T$2:$T$1000) -> 0
B17: =VLOOKUP(A17,'Схема с ПС'!$B$2:$C$1000,2,0) -> #N/A | C17: =SUMIF('Схема с ПС'!$B$2:$B$1000,A17,'Схема с ПС'!$N$2:$N$1000) -> 0 | D17: =SUMIF('Схема с ПС'!$B$2:$B$1000,A17,'Схема с ПС'!$T$2:$T$1000) -> 0 | E17: =SUMIF('Схема с ПС'!$B$2:$B$1000,A17,'Схема с ПС'!$AJ$2:$AJ$1000) -> 0 | G17: =SUMIF('Схема без ПС'!$B$2:$B$1000,A17,'Схема без ПС'!$T$2:$T$1000) -> 0
B18: =VLOOKUP(A18,'Схема с ПС'!$B$2:$C$1000,2,0) -> #N/A | C18: =SUMIF('Схема с ПС'!$B$2:$B$1000,A18,'Схема с ПС'!$N$2:$N$1000) -> 0 | D18: =SUMIF('Схема с ПС'!$B$2:$B$1000,A18,'Схема с ПС'!$T$2:$T$1000) -> 0 | E18: =SUMIF('Схема с ПС'!$B$2:$B$1000,A18,'Схема с ПС'!$AJ$2:$AJ$1000) -> 0 | G18: =SUMIF('Схема без ПС'!$B$2:$B$1000,A18,'Схема без ПС'!$T$2:$T$1000) -> 0
